BEGIN:VCALENDAR
VERSION:2.0
PRODID:-//ChamberMaster//Event Calendar 2.0//EN
METHOD:PUBLISH
X-PUBLISHED-TTL:P3D
REFRESH-INTERVAL:P3D
CALSCALE:GREGORIAN
BEGIN:VEVENT
DTSTART:20261029T173000Z
DTEND:20261029T200000Z
X-MICROSOFT-CDO-ALLDAYEVENT:FALSE
SUMMARY:Greater Phoenix Chamber?s ATHENA Awards
DESCRIPTION:Celebrate with us as we honor 11 outstanding businesswomen at the 39th Annual Greater Phoenix Chamber's ATHENA Awards Luncheon.\n\n\n\nThe ATHENA Awards\, an internationally prized honor\, recognize the achievement of businesswomen across the Greater Phoenix region.\n\n\n\nOver the past 38 years\, 74 accomplished and compassionate Valley businesswomen have earned the title of ATHENA. Their contributions to our business community are immeasurable and help propel Phoenix forward. ATHENAs are challenged across industries to continue their dedication to leading\, serving\, and mentoring. The award highlights three women every year who are at the top of their field and who invest in their careers\, their community\, and especially other women.\n\n\n\nATHENAs demonstrate inspiring leadership within their industry\, mentor women throughout their career\, and dedicate themselves to the community.\n\n\n\nRegister today for this celebration of achievement and perseverance!
X-ALT-DESC;FMTTYPE=text/html:<span style="font-size:14px\;"><span style="font-family:arial\;">Celebrate with us as we honor 11 outstanding businesswomen at the 39th Annual Greater Phoenix Chamber&rsquo\;s ATHENA Awards Luncheon.<br />\n<br />\nThe ATHENA Awards\, an internationally prized honor\, recognize the achievement of businesswomen across the Greater Phoenix region.<br />\n<br />\n<strong>Over the past 38 years\, 74 accomplished and compassionate Valley businesswomen have earned the title of ATHENA. </strong>Their contributions to our business community are immeasurable and help propel Phoenix forward. ATHENAs are challenged across industries to continue their dedication to leading\, serving\, and mentoring. The award highlights three women every year who are at the top of their field and who invest in their careers\, their community\, and especially other women.<br />\n<br />\nATHENAs demonstrate inspiring <strong>leadership</strong> within their industry\, <strong>mentor women</strong> throughout their career\, and dedicate themselves to<strong> the community</strong>.<br />\n<br />\nRegister today for this celebration of achievement and perseverance!</span></span>
LOCATION:JW Marriott Phoenix Desert Ridge Resort & Spa 5350 E. Marriott Dr. Phoenix\, AZ 85054
UID:e.2665.8526
SEQUENCE:3
DTSTAMP:20260420T185316Z
URL:http://business.phoenixchamber.com/events/details/greater-phoenix-chamber-s-athena-awards-10-29-2026-8526
END:VEVENT

END:VCALENDAR
