BEGIN:VCALENDAR
VERSION:2.0
PRODID:-//ChamberMaster//Event Calendar 2.0//EN
METHOD:PUBLISH
X-PUBLISHED-TTL:P3D
REFRESH-INTERVAL:P3D
CALSCALE:GREGORIAN
BEGIN:VEVENT
DTSTART:20121109T190000Z
DTEND:20121110T003000Z
X-MICROSOFT-CDO-ALLDAYEVENT:FALSE
SUMMARY:2012 Business Growth Conference & Expo
DESCRIPTION:The 2012 Business Growth Conference & Expo is a place where serious B2B professional will connect with premier Valley companies. Couple this with outstanding seminar/panel presentations produced by YOB/Phoenix SCORE on issues that are impacting small to midsize businesses. \n\n\n\nJoin us for a day of seminar training\, tremendous trade show traffic and great networking opportunities. \n\n\n•	12:00 - 12:45 pm Registration \n\n•	12:45 - 1:00 pm Opening comments from Phoenix Mayor - Greg Stanton & Business Journal Publisher - Don Henninger\n\n•	1:00 - 1:30 pm Keynote speaker\n\n•	1:30 - 5:30 Trade Show exhibit floor open \n\n\nChoose from two seminars/panel presentations for each time slot:\n\n\n2:00 – 2:45pm \n\nA) Living your Dream: Converting Your Passion into a Business \n\nPresented by: Kent Craven & Harriet Moser\n\nB) You Can't Wish your Way to Growth: A Roadmap of Proven Growth Strategies\n\n\n3:15 – 4:00pm\n\n\nA) Beginning Social Media\n\nPresented by: Max Mendoza \n\nB) Branding & Distinction\n\n\n4:30 – 5:15pm\n\nA) Advanced Social Media\n\nB) Business Plans\n\n\nPricing\n\nAttendees: $10\n\nExhibitors: $435-535\n\n\nChamber Members interested in exhibiting will receive $50 off booth purchase. Use the code GPCC21EXHIBITONLY when you check out. \n\nFor more information visit the\nPhoenix \nBusiness Journal Main Event Page or contact Paul Sanders at 602-308-6540 or\npsanders@bizjournals.com
X-ALT-DESC;FMTTYPE=text/html:<br>The 2012 Business Growth Conference & Expo is a place where serious B2B professional will connect with premier Valley companies. Couple this with outstanding seminar/panel presentations produced by YOB/Phoenix SCORE on issues that are impacting small to midsize businesses. <br><br>\n\nJoin us for a day of seminar training\, tremendous trade show traffic and great networking opportunities. <br><br>\n•	12:00 - 12:45 pm Registration <br>\n•	12:45 - 1:00 pm Opening comments from Phoenix Mayor - Greg Stanton & Business Journal Publisher - Don Henninger<br>\n•	1:00 - 1:30 pm Keynote speaker<br>\n•	1:30 - 5:30 Trade Show exhibit floor open <br><br>\n<b>Choose from two seminars/panel presentations for each time slot:</b><br><br>\n<b>2:00 – 2:45pm</b> <br>\nA) Living your Dream: Converting Your Passion into a Business <br>\nPresented by: Kent Craven & Harriet Moser<br>\nB) You Can't Wish your Way to Growth: A Roadmap of Proven Growth Strategies<br><br>\n<b>3:15 – 4:00pm</b><br>\n\nA) Beginning Social Media<br>\nPresented by: Max Mendoza <br>\nB) Branding & Distinction<br><br>\n<b>4:30 – 5:15pm</b><br>\nA) Advanced Social Media<br>\nB) Business Plans<br><br>\n<b>Pricing</b><br>\nAttendees: $10<br>\nExhibitors: $435-535<br><br>\nChamber Members interested in exhibiting will receive $50 off booth purchase. Use the code <b>GPCC21EXHIBITONLY</b> when you check out. <br>\n<p>For more information visit the\n<a href="http://www.bizjournals.com/phoenix/special/2012/pbgexpo">Phoenix \nBusiness Journal Main Event Page</a> or contact Paul Sanders at 602-308-6540 or\n<a href="mailto:psanders@bizjournals.com">psanders@bizjournals.com</a><br>
LOCATION:100 N. 3rd. St.\, Phoenix\, AZ 85004
UID:e.2665.2634
SEQUENCE:3
DTSTAMP:20260421T152144Z
URL:https://business.phoenixchamber.com/events/details/2012-business-growth-conference-expo-11-09-2012-2634
END:VEVENT

END:VCALENDAR
