BEGIN:VCALENDAR
VERSION:2.0
PRODID:-//ChamberMaster//Event Calendar 2.0//EN
METHOD:PUBLISH
X-PUBLISHED-TTL:P3D
REFRESH-INTERVAL:P3D
CALSCALE:GREGORIAN
BEGIN:VEVENT
DTSTART:20121025T174500Z
DTEND:20121025T203000Z
X-MICROSOFT-CDO-ALLDAYEVENT:FALSE
SUMMARY:25th Annual ATHENA Awards Luncheon
DESCRIPTION:.style1 {\n	border-width: 0px\;\n}\n\n\n\n\n\nOnline registration has now closed\, please call 602-495-2195 for further information. \n\n\n\n\nClick here to see the 2011 ATHENA Award Finalists!\n\n-->\n\n\n\nOnline registration has now closed\, please call 602-495-2195 for further information. \n\n\n\n10:45am - 11:30 | \nRegistration\n\n11:30 - 1:30pm | Lunch and Award Program\n\n\n\nIndividual Reservations \n\n$65 for Chamber members or Nominees\, $75 for non-members\n\n\n\nTable of Ten \n\n$750 for members\, $850 for non-members. \n\n\n\nJoin the Greater Phoenix Chamber as we celebrate the 25th Annual ATHENA Awards and \nhonor Valley Businesswomen for their excellence in business and leadership\, \nexemplary community service and their support and mentorship of other women. The \nwomen being honored are very deserving finalists who have not only excelled in \ntheir careers\, but make an incredible mark on the community where they live. At \nthe annual event two finalists will receive the ATHENA Businesswoman of the Year \nAward (one woman in the private sector of business and one woman in the public \nsector of business) and one finalist will receive the ATHENA Young Professional \nAward. \n\n\n\n\nPRIVATE SECTOR\n\nKelly Barr\, Salt River Project\n\nDeborah Bateman\, National Bank of Arizona\n\nAnne McNamara Ph.D.\, R.N.\, Grand Canyon University \n\nTammy Weinbaum\, American Express\n\n\n\nPUBLIC SECTOR\n\nPam Gaber\, Gabriel's Angels\n\nKatherine Kemmeries Cecala\, Valley of the Sun United Way\n\nDeborah Ostreicher\, City of Phoenix Aviation Department\n\nCoral Quiet\, MD\, Arizona I
X-ALT-DESC;FMTTYPE=text/html:<!--\n\n<head>\n<style type="text/css">\n.style1 {\n	border-width: 0px\;\n}\n</style>\n</head>\n\n<p>\n\n<b><center><Font color="red">Online registration has now closed\, please call 602-495-2195 for further information. </b></center></font>\n\n</p>\n\n\n<center><a href="http://www.phoenixchamber.com/sites/default/files/images/2011_athena_finalists.jpg">Click here to see the 2011 ATHENA Award Finalists!</a></center>\n\n-->\n\n<p>\n\n<b><center><Font color="red">Online registration has now closed\, please call 602-495-2195 for further information. </b></center></font>\n\n</p>\n\n<p><font face="Arial" style="font-size: 9pt" color="#666666">10:45am - 11:30 | \nRegistration<br>\n11:30 - 1:30pm | Lunch and Award Program<br>\n<br>\nIndividual Reservations <br>\n$65 for Chamber members or Nominees\, $75 for non-members<br>\n<br>\nTable of Ten <br>\n$750 for members\, $850 for non-members. <br>\n<br>\nJoin the Greater Phoenix Chamber as we celebrate the 25th Annual ATHENA Awards and \nhonor Valley Businesswomen for their excellence in business and leadership\, \nexemplary community service and their support and mentorship of other women. The \nwomen being honored are very deserving finalists who have not only excelled in \ntheir careers\, but make an incredible mark on the community where they live. At \nthe annual event two finalists will receive the ATHENA Businesswoman of the Year \nAward (one woman in the private sector of business and one woman in the public \nsector of business) and one finalist will receive the ATHENA Young Professional \nAward. <br>\n<p>\n<br>\n<b>PRIVATE SECTOR</b><br>\nKelly Barr\, Salt River Project<br>\nDeborah Bateman\, National Bank of Arizona<br>\nAnne McNamara Ph.D.\, R.N.\, Grand Canyon University <br>\nTammy Weinbaum\, American Express<br><br>\n\n<b>PUBLIC SECTOR</b><br>\nPam Gaber\, Gabriel's Angels<br>\nKatherine Kemmeries Cecala\, Valley of the Sun United Way<br>\nDeborah Ostreicher\, City of Phoenix Aviation Department<br>\nCoral Quiet\, MD\, Arizona I
LOCATION:2400 E. Missouri Ave.\, Phoenix\, AZ 85016
UID:e.2665.2626
SEQUENCE:3
DTSTAMP:20260421T163513Z
URL:https://business.phoenixchamber.com/events/details/25th-annual-athena-awards-luncheon-10-25-2012-2626
END:VEVENT

END:VCALENDAR
