BEGIN:VCALENDAR
VERSION:2.0
PRODID:-//ChamberMaster//Event Calendar 2.0//EN
METHOD:PUBLISH
X-PUBLISHED-TTL:P3D
REFRESH-INTERVAL:P3D
CALSCALE:GREGORIAN
BEGIN:VEVENT
DTSTART:20120525T003000Z
DTEND:20120525T033000Z
X-MICROSOFT-CDO-ALLDAYEVENT:FALSE
SUMMARY:7th Annual Spirit of South Mountain Awards Dinner
DESCRIPTION:5:30pm: Patio Reception\n\n6:30pm: Dinner Seating\nJoin the South Mountain/Laveen Chapter to celebrate the rich history and \ncultural diversity of South Mountain at the 7th Annual Spirit of South Mountain \nAwards Dinner at the South Mountain Community Library. The event will celebrate \nsuccessful community partnering between entities that contribute to our quality \nof life. \nAward Categories:\n\n	Local Business: South Mountain/Laveen\n	Non-Profit Agency\n	Individual Volunteer for 2012\n	Local Government Agency\n	Education/School Administrator\n	South Mountain Precinct Officer of the Year Award\n\nNo refunds will be made for cancellations within 72 hours.
X-ALT-DESC;FMTTYPE=text/html:\n\n\n<p>5:30pm: Patio Reception<br>\n6:30pm: Dinner Seating</p>\n<p>Join the South Mountain/Laveen Chapter to celebrate the rich history and \ncultural diversity of South Mountain at the 7th Annual Spirit of South Mountain \nAwards Dinner at the South Mountain Community Library. The event will celebrate \nsuccessful community partnering between entities that contribute to our quality \nof life. </p>\n<p><b>Award Categories:</b></p>\n<ul>\n	<li>Local Business: South Mountain/Laveen</li>\n	<li>Non-Profit Agency</li>\n	<li>Individual Volunteer for 2012</li>\n	<li>Local Government Agency</li>\n	<li>Education/School Administrator</li>\n	<li>South Mountain Precinct Officer of the Year Award</li>\n</ul>\n<p>No refunds will be made for cancellations within 72 hours.</p>
LOCATION:College Library\, Phoenix\, AZ 85042
UID:e.2665.2532
SEQUENCE:3
DTSTAMP:20260422T010135Z
URL:https://business.phoenixchamber.com/events/details/7th-annual-spirit-of-south-mountain-awards-dinner-05-24-2012-2532
END:VEVENT

END:VCALENDAR
