BEGIN:VCALENDAR
VERSION:2.0
PRODID:-//ChamberMaster//Event Calendar 2.0//EN
METHOD:PUBLISH
X-PUBLISHED-TTL:P3D
REFRESH-INTERVAL:P3D
CALSCALE:GREGORIAN
BEGIN:VEVENT
DTSTART:20100317T000000Z
DTEND:20100317T020000Z
X-MICROSOFT-CDO-ALLDAYEVENT:FALSE
SUMMARY:After 5 - Mix It Up Mixer
DESCRIPTION:.style1 {\n	font-family: Arial\;\n	font-size: 9pt\;\n	color: #666666\;\n}\na:link\n	{color:blue\;\n	text-decoration:underline\;\n	text-underline:single\;\n}\n.style2 {\n	font-size: 10.5pt\;\n	font-family: Consolas\;\n	margin-left: 0in\;\n	margin-right: 0in\;\n	margin-top: 0in\;\n	margin-bottom: .0001pt\;\n}\n\n\n\nMake new business contacts or get re-acquainted with familiar ones\, \nwhile you enjoying a fun evening with members of the Greater Phoenix Chamber of \nCommerce \, Greater Phoenix Convention & Visitors Bureau and the The Desert \nBotanical Garden.  Enjoy  appetizers and a cash bar provided by \nAtlasta Catering while enjoying the desert landscape on Ullman Terrace.\n\n\nParking is available on site.  Please park in rows 1-7 for closest access \nto the main entrance.  Check in at admissions\, and you will be provided \nwith a directional map to the event location.  This event will be held \noutdoors\, so please dress accordingly.\nFor directions\, please click  here
X-ALT-DESC;FMTTYPE=text/html:<head>\n<style type="text/css">\n.style1 {\n	font-family: Arial\;\n	font-size: 9pt\;\n	color: #666666\;\n}\na:link\n	{color:blue\;\n	text-decoration:underline\;\n	text-underline:single\;\n}\n.style2 {\n	font-size: 10.5pt\;\n	font-family: Consolas\;\n	margin-left: 0in\;\n	margin-right: 0in\;\n	margin-top: 0in\;\n	margin-bottom: .0001pt\;\n}\n</style>\n</head>\n\n<p class="style1">Make new business contacts or get re-acquainted with familiar ones\, \nwhile you enjoying a fun evening with members of the Greater Phoenix Chamber of \nCommerce \, Greater Phoenix Convention &amp\; Visitors Bureau and the The Desert \nBotanical Garden.&nbsp\; Enjoy&nbsp\; appetizers and a cash bar provided by \nAtlasta Catering while enjoying the desert landscape on Ullman Terrace.<br><br>\nParking is available on site.&nbsp\; Please park in rows 1-7 for closest access \nto the main entrance.&nbsp\; Check in at admissions\, and you will be provided \nwith a directional map to the event location.&nbsp\; This event will be held \noutdoors\, so please dress accordingly.</p>\n<p class="style1">For directions\, please click <a href= "http://www.dbg.org/index.php/plan/directions"> here </a>\n\n<p class="style2">&nbsp\;
LOCATION:1201 N. Galvin Pkwy.\, Phoenix\, AZ 85008
UID:e.2665.2010
SEQUENCE:3
DTSTAMP:20260423T200817Z
URL:https://business.phoenixchamber.com/events/details/after-5-mix-it-up-mixer-03-16-2010
END:VEVENT

END:VCALENDAR
