BEGIN:VCALENDAR
VERSION:2.0
PRODID:-//ChamberMaster//Event Calendar 2.0//EN
METHOD:PUBLISH
X-PUBLISHED-TTL:P3D
REFRESH-INTERVAL:P3D
CALSCALE:GREGORIAN
BEGIN:VEVENT
DTSTART:20100326T000000Z
DTEND:20100326T020000Z
X-MICROSOFT-CDO-ALLDAYEVENT:FALSE
SUMMARY:After 5 Mixer
DESCRIPTION:.style1 {\n	font-family: Arial\;\n	font-size: 9pt\;\n	color: #666666\;\n}\n\n\n\nJoin the Greater Phoenix Chamber of Commerce at Deer Valley \nfor an After 5 Mixer help at the Comfort Inn Suites - Phoenix North.\nExplore the Comfort Inn Suites while making new business \ncontacts and catching up with familiar ones. There will also be free appetizers\, \nas well as a cash bar. We hope to see you at this great After 5 Mixer.
X-ALT-DESC;FMTTYPE=text/html:<head>\n<style type="text/css">\n.style1 {\n	font-family: Arial\;\n	font-size: 9pt\;\n	color: #666666\;\n}\n</style>\n</head>\n\n<p class="style1">Join the Greater Phoenix Chamber of Commerce at Deer Valley \nfor an After 5 Mixer help at the Comfort Inn Suites - Phoenix North.</p>\n<p class="style1">Explore the Comfort Inn Suites while making new business \ncontacts and catching up with familiar ones. There will also be free appetizers\, \nas well as a cash bar. We hope to see you at this great After 5 Mixer.</p>\n\n
LOCATION:2641 W. Union Hills Dr.\, Phoenix\, AZ 85027
UID:e.2665.2011
SEQUENCE:3
DTSTAMP:20260423T181758Z
URL:https://business.phoenixchamber.com/events/details/after-5-mixer-03-25-2010-2011
END:VEVENT

END:VCALENDAR
