BEGIN:VCALENDAR
VERSION:2.0
PRODID:-//ChamberMaster//Event Calendar 2.0//EN
METHOD:PUBLISH
X-PUBLISHED-TTL:P3D
REFRESH-INTERVAL:P3D
CALSCALE:GREGORIAN
BEGIN:VEVENT
DTSTART:20101022T000000Z
DTEND:20101022T020000Z
X-MICROSOFT-CDO-ALLDAYEVENT:FALSE
SUMMARY:After 5 Mixer – Arizona Pop Culture Museum
DESCRIPTION:Trick or Treat!  Who says Halloween is just for kids?  The Greater Phoenix Chamber of Commerce invites you to release your inner child at the Arizona Pop Culture Museum in celebration of Halloween.  Enjoy great displays from all of your favorite pop culture icons including Star Wars\, Barbie\, The Muppets and many more!  There will be appetizers\, a cash bar and of course\, great business leads!  This is a free event for our members and their guests.
X-ALT-DESC;FMTTYPE=text/html:<p>Trick or Treat!  Who says Halloween is just for kids?  The Greater Phoenix Chamber of Commerce invites you to release your inner child at the Arizona Pop Culture Museum in celebration of Halloween.  Enjoy great displays from all of your favorite pop culture icons including Star Wars\, Barbie\, The Muppets and many more!  There will be appetizers\, a cash bar and of course\, great business leads!  This is a free event for our members and their guests.  </p>
LOCATION:5415 E. High St.\, Ste. 119\, Phoenix\, AZ 85054
UID:e.2665.2153
SEQUENCE:3
DTSTAMP:20260423T070908Z
URL:https://business.phoenixchamber.com/events/details/after-5-mixer-arizona-pop-culture-museum-10-21-2010-2153
END:VEVENT

END:VCALENDAR
