BEGIN:VCALENDAR
VERSION:2.0
PRODID:-//ChamberMaster//Event Calendar 2.0//EN
METHOD:PUBLISH
X-PUBLISHED-TTL:P3D
REFRESH-INTERVAL:P3D
CALSCALE:GREGORIAN
BEGIN:VEVENT
DTSTART:20100212T000000Z
DTEND:20100212T020000Z
X-MICROSOFT-CDO-ALLDAYEVENT:FALSE
SUMMARY:After 5 Mixer at Casino Arizona - Pre-Registration Closed- On-Site registration Available
DESCRIPTION:.style1 {\n	font-family: Arial\;\n	font-size: 9pt\;\n	color: #666666\;\n}\n\n\n\nCome join the Greater Phoenix Chamber of Commerce for an After \nFive Mixer. Make new business contacts or get re-acquainted with familiar ones\, \nwhile enjoying free appetizers and a cash bar.\nBe sure to also stay for a special showing of Showstoppers \nLive! beginning at 7pm. Enjoy a musical tribute to America's greatest superstars \nfeaturing the music of Elvis\, Tina Turner\, The Four Tops\, Whitney Houston\, \nBrooks & Dunn and many more. You don't want to miss this!  Seating is \nlimited - register today!\n Directions:  From Phoenix Sky \nHarbor Airport\, take the 202 Freeway Eastbound to the 101 Freeway Northbound. \nExit at McKellips\, turn right (east) then take a left at 92nd Street.  Also \nfrom downtown Phoenix\, take the I-10 to the 202 Freeway and follow the same \ndirections once you get on the 202.
X-ALT-DESC;FMTTYPE=text/html:<head>\n<style type="text/css">\n.style1 {\n	font-family: Arial\;\n	font-size: 9pt\;\n	color: #666666\;\n}\n</style>\n</head>\n\n<p class="style1">Come join the Greater Phoenix Chamber of Commerce for an After \nFive Mixer. Make new business contacts or get re-acquainted with familiar ones\, \nwhile enjoying free appetizers and a cash bar.</p>\n<p class="style1">Be sure to also stay for a special showing of Showstoppers \nLive! beginning at 7pm. Enjoy a musical tribute to America's greatest superstars \nfeaturing the music of Elvis\, Tina Turner\, The Four Tops\, Whitney Houston\, \nBrooks &amp\; Dunn and many more. You don't want to miss this!&nbsp\; Seating is \nlimited - register today!</p>\n<p class="style1"><b> Directions: </b> </p><p class="style1">From Phoenix Sky \nHarbor Airport\, take the 202 Freeway Eastbound to the 101 Freeway Northbound. \nExit at McKellips\, turn right (east) then take a left at 92nd Street.&nbsp\; Also \nfrom downtown Phoenix\, take the I-10 to the 202 Freeway and follow the same \ndirections once you get on the 202.</p>\n
LOCATION:524 N. 92nd St.\, Scottsdale\, AZ 85256
UID:e.2665.1962
SEQUENCE:3
DTSTAMP:20260423T201443Z
URL:https://business.phoenixchamber.com/events/details/after-5-mixer-at-casino-arizona-pre-registration-closed-on-site-registration-available-02-11-2010-1962
END:VEVENT

END:VCALENDAR
