BEGIN:VCALENDAR
VERSION:2.0
PRODID:-//ChamberMaster//Event Calendar 2.0//EN
METHOD:PUBLISH
X-PUBLISHED-TTL:P3D
REFRESH-INTERVAL:P3D
CALSCALE:GREGORIAN
BEGIN:VEVENT
DTSTART:20090821T000000Z
DTEND:20090821T020000Z
X-MICROSOFT-CDO-ALLDAYEVENT:FALSE
SUMMARY:After 5 Mixer at Hotel San Carlos
DESCRIPTION:.style1 {\n	font-family: Arial\;\n	color: #666666\;\n}\n.style2 {\n	font-size: 9pt\;\n}\n.style3 {\n	font-family: Arial\;\n	font-size: 9pt\;\n	color: #666666\;\n}\n\n\n\n\nCome enjoy a great evening of networking with the Greater \nPhoenix Chamber of Commerce\, the Downtown Phoenix Partnership and the City of \nPhoenix Mayor's office at Hotel San Carlos.\nExplore the Hotel San Carlos\, a State \nHistoric landmark\, while making new business contacts and catching up with \nfamiliar ones. There will also be free appetizers\, as well as a cash bar.\nDon't miss out on this After 5 Mixer as we continue to explore \nall the great venues in downtown Phoenix - The Urban Heart of Arizona! \n\nPlease park in the CHASE Garage and bring your parking ticket for validation.
X-ALT-DESC;FMTTYPE=text/html:<head>\n<style type="text/css">\n.style1 {\n	font-family: Arial\;\n	color: #666666\;\n}\n.style2 {\n	font-size: 9pt\;\n}\n.style3 {\n	font-family: Arial\;\n	font-size: 9pt\;\n	color: #666666\;\n}\n</style>\n</head>\n\n<p ALIGN="LEFT"></p>\n<p class="style3">Come enjoy a great evening of networking with the Greater \nPhoenix Chamber of Commerce\, the Downtown Phoenix Partnership and the City of \nPhoenix Mayor's office at Hotel San Carlos.</p>\n<p class="style1"><span class="style2">Explore the Hotel San Carlos\, a State \nHistoric landmark\, while making new business contacts and catching up with \nfamiliar ones. There will also be free appetizers\, as well as a cash bar.</p>\n<p class="style1">Don't miss out on this After 5 Mixer as we continue to explore \nall the great venues in downtown Phoenix - The Urban Heart of Arizona! <br><br>Please park in the CHASE Garage and bring your parking ticket for validation.</span></p>\n<p>&nbsp\;</p>\n
LOCATION:202 N. Central Ave.\, Phoenix\, AZ 85004 Please park in the CHASE Garage and bring your parking ticket for validation.
UID:e.2665.1882
SEQUENCE:3
DTSTAMP:20260424T043418Z
URL:https://business.phoenixchamber.com/events/details/after-5-mixer-at-hotel-san-carlos-08-20-2009-1882
END:VEVENT

END:VCALENDAR
