BEGIN:VCALENDAR
VERSION:2.0
PRODID:-//ChamberMaster//Event Calendar 2.0//EN
METHOD:PUBLISH
X-PUBLISHED-TTL:P3D
REFRESH-INTERVAL:P3D
CALSCALE:GREGORIAN
BEGIN:VEVENT
DTSTART:20100611T000000Z
DTEND:20100611T020000Z
X-MICROSOFT-CDO-ALLDAYEVENT:FALSE
SUMMARY:After 5 Mixer Deer Valley
DESCRIPTION:.style1 {\n	font-family: Arial\;\n	font-size: 9pt\;\n	color: #666666\;\n}\n\n\n\nJoin the Greater Phoenix Chamber of Commerce at Deer Valley \nfor an After 5 Mixer held at Boates and Crump\, Attorneys at Law.\nMake new business contacts and catch up with familiar ones.  \nEnjoy appetizers\, wine\, and a friendly atmosphere.  We hope to see you \nthere!
X-ALT-DESC;FMTTYPE=text/html:<head>\n<style type="text/css">\n.style1 {\n	font-family: Arial\;\n	font-size: 9pt\;\n	color: #666666\;\n}\n</style>\n</head>\n\n<p class="style1">Join the Greater Phoenix Chamber of Commerce at Deer Valley \nfor an After 5 Mixer held at Boates and Crump\, Attorneys at Law.</p>\n<p class="style1">Make new business contacts and catch up with familiar ones.&nbsp\; \nEnjoy appetizers\, wine\, and a friendly atmosphere.&nbsp\; We hope to see you \nthere!</p>\n\n
LOCATION:22601 N. 19th Ave.\, Ste. 240\, Phoenix\, AZ 85027
UID:e.2665.2071
SEQUENCE:3
DTSTAMP:20260423T131417Z
URL:https://business.phoenixchamber.com/events/details/after-5-mixer-deer-valley-06-10-2010-2071
END:VEVENT

END:VCALENDAR
