BEGIN:VCALENDAR
VERSION:2.0
PRODID:-//ChamberMaster//Event Calendar 2.0//EN
METHOD:PUBLISH
X-PUBLISHED-TTL:P3D
REFRESH-INTERVAL:P3D
CALSCALE:GREGORIAN
BEGIN:VEVENT
DTSTART:20100923T000000Z
DTEND:20100923T020000Z
X-MICROSOFT-CDO-ALLDAYEVENT:FALSE
SUMMARY:After 5 Mixer - Deer Valley at Bill Johnson's Restaurant
DESCRIPTION:Please join the Greater Phoenix Chamber of Commerce for a special After 5 Mixer in partnership with the North Phoenix Chamber of Commerce at Bill Johnson's Big Apple on Wednesday\, September 22.  Enjoy drinks\, appetizers and the ''wild west'' atmosphere while making new business contacts or re-connecting with familiar faces.  Be sure to bring plenty of business cards!  \n\nParking is available on site.  This is a free event for members and their guests.
X-ALT-DESC;FMTTYPE=text/html:<p><font face="Arial" style="font-size: 9pt" color="#666666">Please join the Greater Phoenix Chamber of Commerce for a special After 5 Mixer in partnership with the North Phoenix Chamber of Commerce at Bill Johnson's Big Apple on Wednesday\, September 22.  Enjoy drinks\, appetizers and the ''wild west'' atmosphere while making new business contacts or re-connecting with familiar faces.  Be sure to bring plenty of business cards!  <br><br>Parking is available on site.  This is a free event for members and their guests.   </font></p>
LOCATION:16810 N. 19th Ave.\, Phoenix\, AZ 85023
UID:e.2665.2125
SEQUENCE:3
DTSTAMP:20260423T100231Z
URL:https://business.phoenixchamber.com/events/details/after-5-mixer-deer-valley-at-bill-johnson-s-restaurant-09-22-2010-2125
END:VEVENT

END:VCALENDAR
