BEGIN:VCALENDAR
VERSION:2.0
PRODID:-//ChamberMaster//Event Calendar 2.0//EN
METHOD:PUBLISH
X-PUBLISHED-TTL:P3D
REFRESH-INTERVAL:P3D
CALSCALE:GREGORIAN
BEGIN:VEVENT
DTSTART:20110119T000000Z
DTEND:20110119T020000Z
X-MICROSOFT-CDO-ALLDAYEVENT:FALSE
SUMMARY:After 5 Mixer- Sandbar
DESCRIPTION:Happy New Year!  Is your New Year's resolutions to establish more relationships to help you build your business? If so\, kick off the new year with our After 5 Mixer on Tuesday\, January 18th at the new Sandbar in North Phoenix.  This event is a great way to meet new contacts and start building the relationships you need for 2011. Fight the winter blues with Sandbar's laidback beach cantina atmosphere\, a cash bar and complimentary appetizers.  Be sure to bring plenty of business cards!
X-ALT-DESC;FMTTYPE=text/html:\n\n<br><br>Happy New Year!  Is your New Year's resolutions to establish more relationships to help you build your business? If so\, kick off the new year with our After 5 Mixer on Tuesday\, January 18th at the new Sandbar in North Phoenix.  This event is a great way to meet new contacts and start building the relationships you need for 2011. Fight the winter blues with Sandbar's laidback beach cantina atmosphere\, a cash bar and complimentary appetizers.  Be sure to bring plenty of business cards!\n\n<br><br>\n
LOCATION:21001 N. Tatum Blvd.\, Phoenix\, AZ 85050
UID:e.2665.2219
SEQUENCE:3
DTSTAMP:20260423T022805Z
URL:https://business.phoenixchamber.com/events/details/after-5-mixer-sandbar-01-18-2011-2219
END:VEVENT

END:VCALENDAR
