BEGIN:VCALENDAR
VERSION:2.0
PRODID:-//ChamberMaster//Event Calendar 2.0//EN
METHOD:PUBLISH
X-PUBLISHED-TTL:P3D
REFRESH-INTERVAL:P3D
CALSCALE:GREGORIAN
BEGIN:VEVENT
DTSTART:20110127T230000Z
DTEND:20110128T020000Z
X-MICROSOFT-CDO-ALLDAYEVENT:FALSE
SUMMARY:After 5 Mixer – South Mountain/Laveen
DESCRIPTION:Join the Greater Phoenix Chamber of Commerce at South Mountain/Laveen for an After 5 Mixer at The House at The Secret Garden.\n\n\n \nMix and mingle while you enjoy appetizers and a cash bar. This is the perfect networking opportunity\, so bring plenty of business cards. Plus we will welcome the legendary voice of the Phoenix Suns\, Al McCoy\, as he signs his new book ''The Real McCoy'' from 4:00-6pm. The book will be available for purchase for $15.00 at the event. \n\n\n\nYou won't want to miss this fun event!
X-ALT-DESC;FMTTYPE=text/html:\n\n<br><br>Join the Greater Phoenix Chamber of Commerce at South Mountain/Laveen for an After 5 Mixer at The House at The Secret Garden.<br><br>\n \nMix and mingle while you enjoy appetizers and a cash bar. This is the perfect networking opportunity\, so bring plenty of business cards. Plus we will welcome the legendary voice of the Phoenix Suns\, Al McCoy\, as he signs his new book ''The Real McCoy'' from 4:00-6pm. The book will be available for purchase for $15.00 at the event. \n<br><br>\nYou won't want to miss this fun event!\n\n\n<br><br>\n
LOCATION:2501 E Baseline Rd\, Phoenix\, AZ 85042
UID:e.2665.2217
SEQUENCE:3
DTSTAMP:20260423T022953Z
URL:https://business.phoenixchamber.com/events/details/after-5-mixer-south-mountain-laveen-01-27-2011-2217
END:VEVENT

END:VCALENDAR
