BEGIN:VCALENDAR
VERSION:2.0
PRODID:-//ChamberMaster//Event Calendar 2.0//EN
METHOD:PUBLISH
X-PUBLISHED-TTL:P3D
REFRESH-INTERVAL:P3D
CALSCALE:GREGORIAN
BEGIN:VEVENT
DTSTART:20110325T003000Z
DTEND:20110325T020000Z
X-MICROSOFT-CDO-ALLDAYEVENT:FALSE
SUMMARY:After 5 Mixer – South Mountain/Laveen
DESCRIPTION:Join the Greater Phoenix Chamber of Commerce at South Mountain/Laveen for an After 5 Mixer at Gallagher's Sports Grill on Baseline. \n\n\n \nMix and mingle while you enjoy appetizers\, a cash bar and prizes. This is the perfect networking opportunity\, so bring plenty of business cards. \n\n\n\nYou won't want to miss this fun event!
X-ALT-DESC;FMTTYPE=text/html:\n\n<br><br>Join the Greater Phoenix Chamber of Commerce at South Mountain/Laveen for an After 5 Mixer at Gallagher's Sports Grill on Baseline. <br><br>\n \nMix and mingle while you enjoy appetizers\, a cash bar and prizes. This is the perfect networking opportunity\, so bring plenty of business cards. \n<br><br>\nYou won't want to miss this fun event!\n\n\n<br><br>\n
LOCATION:3220 E. Baseline Rd.\, Phoenix\, AZ 85042
UID:e.2665.2291
SEQUENCE:3
DTSTAMP:20260423T011549Z
URL:https://business.phoenixchamber.com/events/details/after-5-mixer-south-mountain-laveen-03-24-2011-2291
END:VEVENT

END:VCALENDAR
