BEGIN:VCALENDAR
VERSION:2.0
PRODID:-//ChamberMaster//Event Calendar 2.0//EN
METHOD:PUBLISH
X-PUBLISHED-TTL:P3D
REFRESH-INTERVAL:P3D
CALSCALE:GREGORIAN
BEGIN:VEVENT
DTSTART:20100625T003000Z
DTEND:20100625T023000Z
X-MICROSOFT-CDO-ALLDAYEVENT:FALSE
SUMMARY:After 5 Mixer South Mountain/Laveen
DESCRIPTION:.style1 {\n	font-family: Arial\;\n	font-size: 9pt\;\n	color: #666666\;\n}\n\n\n\nJoin the Greater Phoenix Chamber of Commerce at South Mountain/Laveen for an After 5 Mixer at the Native New Yorker in Laveen.\n\n \n\n\nMix and mingle while you enjoy appetizers\, a cash bar and prizes. This is the perfect networking opportunity\, so bring plenty of business cards. You won't want to miss this fun event!
X-ALT-DESC;FMTTYPE=text/html:<head>\n<style type="text/css">\n.style1 {\n	font-family: Arial\;\n	font-size: 9pt\;\n	color: #666666\;\n}\n</style>\n</head>\n\n<p class="style1">Join the Greater Phoenix Chamber of Commerce at South Mountain/Laveen for an After 5 Mixer at the Native New Yorker in Laveen.\n\n \n\n</p>\n<p class="style1">Mix and mingle while you enjoy appetizers\, a cash bar and prizes. This is the perfect networking opportunity\, so bring plenty of business cards. You won't want to miss this fun event! \n</p>\n\n\n
LOCATION:5020 W. Baseline Rd.\, Laveen\, AZ 85339
UID:e.2665.2079
SEQUENCE:3
DTSTAMP:20260423T131550Z
URL:https://business.phoenixchamber.com/events/details/after-5-mixer-south-mountain-laveen-06-24-2010-2079
END:VEVENT

END:VCALENDAR
