BEGIN:VCALENDAR
VERSION:2.0
PRODID:-//ChamberMaster//Event Calendar 2.0//EN
METHOD:PUBLISH
X-PUBLISHED-TTL:P3D
REFRESH-INTERVAL:P3D
CALSCALE:GREGORIAN
BEGIN:VEVENT
DTSTART:20100924T003000Z
DTEND:20100924T020000Z
X-MICROSOFT-CDO-ALLDAYEVENT:FALSE
SUMMARY:After 5 Mixer - South Mountain/Laveen
DESCRIPTION:Join the Greater Phoenix Chamber of Commerce at South Mountain/Laveen for an After 5 Mixer at Gallagher's Restaurant and Sports Grill Patio.\n \n\n\nMix and mingle while you enjoy appetizers\, a cash bar and prizes. This is the perfect networking opportunity\, so bring plenty of business cards. You won't want to miss this fun event!
X-ALT-DESC;FMTTYPE=text/html:<p><font face="Arial" style="font-size: 9pt" color="#666666">Join the Greater Phoenix Chamber of Commerce at South Mountain/Laveen for an After 5 Mixer at Gallagher's Restaurant and Sports Grill Patio.\n <br><br>\nMix and mingle while you enjoy appetizers\, a cash bar and prizes. This is the perfect networking opportunity\, so bring plenty of business cards. You won't want to miss this fun event!\n</font></p>
LOCATION:3220 E. Baseline Rd.\, Phoenix\, AZ 85042
UID:e.2665.2126
SEQUENCE:3
DTSTAMP:20260423T083712Z
URL:https://business.phoenixchamber.com/events/details/after-5-mixer-south-mountain-laveen-09-23-2010-2126
END:VEVENT

END:VCALENDAR
