BEGIN:VCALENDAR
VERSION:2.0
PRODID:-//ChamberMaster//Event Calendar 2.0//EN
METHOD:PUBLISH
X-PUBLISHED-TTL:P3D
REFRESH-INTERVAL:P3D
CALSCALE:GREGORIAN
BEGIN:VEVENT
DTSTART:20100521T003000Z
DTEND:20100521T020000Z
X-MICROSOFT-CDO-ALLDAYEVENT:FALSE
SUMMARY:After 5 Mixer South Mountain/Laveen Chapter
DESCRIPTION:.style1 {\n	font-family: Arial\;\n	font-size: 9pt\;\n	color: #666666\;\n}\n\n\n\nJoin the Greater Phoenix Chamber of Commerce at South \nMountain/Laveen \nfor an After 5 Mixer at Gallagher's Sports Grill.\nMix and mingle while you enjoy appetizers and a cash \nbar and prises.  This is the perfect networking opportunity\, so bring plenty of \nbusiness cards.  You won't want to miss this fun event!
X-ALT-DESC;FMTTYPE=text/html:<head>\n<style type="text/css">\n.style1 {\n	font-family: Arial\;\n	font-size: 9pt\;\n	color: #666666\;\n}\n</style>\n</head>\n\n<p class="style1">Join the Greater Phoenix Chamber of Commerce at South \nMountain/Laveen \nfor an After 5 Mixer at Gallagher's Sports Grill.</p>\n<p class="style1">Mix and mingle while you enjoy appetizers and a cash \nbar and prises.&nbsp\; This is the perfect networking opportunity\, so bring plenty of \nbusiness cards.&nbsp\; You won't want to miss this fun event!</p>\n\n
LOCATION:3220 E. Baseline Rd.\, Phoenix\, AZ 85042
UID:e.2665.2072
SEQUENCE:3
DTSTAMP:20260423T150409Z
URL:https://business.phoenixchamber.com/events/details/after-5-mixer-south-mountain-laveen-chapter-05-20-2010-2072
END:VEVENT

END:VCALENDAR
