BEGIN:VCALENDAR
VERSION:2.0
PRODID:-//ChamberMaster//Event Calendar 2.0//EN
METHOD:PUBLISH
X-PUBLISHED-TTL:P3D
REFRESH-INTERVAL:P3D
CALSCALE:GREGORIAN
BEGIN:VEVENT
DTSTART:20110324T000000Z
DTEND:20110324T020000Z
X-MICROSOFT-CDO-ALLDAYEVENT:FALSE
SUMMARY:After 5 Mixer- Stonecreek Golf Club
DESCRIPTION:With the weather turning warmer\, it's a perfect time to work on your golf game.  Please join the Greater Phoenix Chamber of Commerce for our March After 5 Mixer at Stone Creek Golf Club.  \n\n\n\nEnjoy complimentary appetizers\, a cash bar and some friendly competition on the green with a putting contest!  The winner will receive a special prize from Stonecreek Golf Club.  Networking and golf go hand-in-hand\, so don't forget your business cards!
X-ALT-DESC;FMTTYPE=text/html:\n\n<br><br>With the weather turning warmer\, it's a perfect time to work on your golf game.  Please join the Greater Phoenix Chamber of Commerce for our March After 5 Mixer at Stone Creek Golf Club.  \n<br><br>\nEnjoy complimentary appetizers\, a cash bar and some friendly competition on the green with a putting contest!  The winner will receive a special prize from Stonecreek Golf Club.  Networking and golf go hand-in-hand\, so don't forget your business cards!\n\n\n<br><br>\n
LOCATION:4435 E. Paradise Village Pkwy. S.\, Phoenix\, AZ 85032
UID:e.2665.2239
SEQUENCE:3
DTSTAMP:20260422T233953Z
URL:https://business.phoenixchamber.com/events/details/after-5-mixer-stonecreek-golf-club-03-23-2011-2239
END:VEVENT

END:VCALENDAR
