BEGIN:VCALENDAR
VERSION:2.0
PRODID:-//ChamberMaster//Event Calendar 2.0//EN
METHOD:PUBLISH
X-PUBLISHED-TTL:P3D
REFRESH-INTERVAL:P3D
CALSCALE:GREGORIAN
BEGIN:VEVENT
DTSTART:20100521T000000Z
DTEND:20100521T020000Z
X-MICROSOFT-CDO-ALLDAYEVENT:FALSE
SUMMARY:After Cinco Mixer
DESCRIPTION:.style1 {\n	font-family: Arial\;\n	font-size: 9pt\;\n	color: #666666\;\n}\n\n\n\nJoin the Greater Phoenix Chamber of Commerce and Macayo's \nMexican Kitchen as we host a special After Cinco Mixer at Macayo's Depot Cantina in \nTempe!  \n\nMix and mingle while you enjoy festive appetizers and a \ncash bar.  This is the perfect networking opportunity\, so bring plenty of \nbusiness cards.  You won't want to miss this fun event!
X-ALT-DESC;FMTTYPE=text/html:<head>\n<style type="text/css">\n.style1 {\n	font-family: Arial\;\n	font-size: 9pt\;\n	color: #666666\;\n}\n</style>\n</head>\n\n<p class="style1">Join the Greater Phoenix Chamber of Commerce and Macayo's \nMexican Kitchen as we host a special After Cinco Mixer at Macayo's Depot Cantina in \nTempe!&nbsp\; <br><br>Mix and mingle while you enjoy festive appetizers and a \ncash bar.&nbsp\; This is the perfect networking opportunity\, so bring plenty of \nbusiness cards.&nbsp\; You won't want to miss this fun event!</p>\n<p class="style1">&nbsp\;</p>\n\n
LOCATION:300 S. Ash Ave.\, Tempe\, AZ 85281
UID:e.2665.2070
SEQUENCE:3
DTSTAMP:20260423T145955Z
URL:https://business.phoenixchamber.com/events/details/after-cinco-mixer-05-20-2010-2070
END:VEVENT

END:VCALENDAR
