BEGIN:VCALENDAR
VERSION:2.0
PRODID:-//ChamberMaster//Event Calendar 2.0//EN
METHOD:PUBLISH
X-PUBLISHED-TTL:P3D
REFRESH-INTERVAL:P3D
CALSCALE:GREGORIAN
BEGIN:VEVENT
DTSTART:20101006T210000Z
DTEND:20101006T223000Z
X-MICROSOFT-CDO-ALLDAYEVENT:FALSE
SUMMARY:Agriculture\, Environment and Water Issue Committee
DESCRIPTION:.style1 {\n	font-family: Arial\;\n	font-size: 9pt\;\n	color: #666666\;\n}\n.style2 {\n	text-decoration: none\;\n}\n.style3 {\n	font-size: 9pt\;\n}\n\n\n\n\n\nThe Greater Phoenix Chamber of Commerce offers more \nthan 9 committees to get involved with and let your voice be heard. Each \ncommittee evaluates legislation and policy initiatives\, in order to make \nposition recommendations to the Public Affairs Committee.\n\n\nAgriculture\, Environment and Water Issue Committee:   \nWorks to support environmental policies that are based on sound science and are \nresponsive to Arizona's unique needs. The committee responds to the needs of the \nbusiness community by participating in policy making that encourages economic \ndevelopment in Arizona\, while respecting the state's natural resources.
X-ALT-DESC;FMTTYPE=text/html:\n<head>\n<style type="text/css">\n.style1 {\n	font-family: Arial\;\n	font-size: 9pt\;\n	color: #666666\;\n}\n.style2 {\n	text-decoration: none\;\n}\n.style3 {\n	font-size: 9pt\;\n}\n</style>\n</head>\n\n<body class="style1">\n\n<p><span class="style3">The Greater Phoenix Chamber of Commerce offers more \nthan 9 committees to get involved with and let your voice be heard. Each \ncommittee evaluates legislation and policy initiatives\, in order to make \nposition recommendations to the Public Affairs Committee.<strong><br class="style2">\n<br class="style2"><span class="style2">Agriculture\, Environment and Water Issue Committee: </span>&nbsp\;</strong> \nWorks to support environmental policies that are based on sound science and are \nresponsive to Arizona's unique needs. The committee responds to the needs of the \nbusiness community by participating in policy making that encourages economic \ndevelopment in Arizona\, while respecting the state's natural resources.<br>\n<br></p></span>\n\n
LOCATION:201 N. Central Ave.\, Ste. 2700\, Phoenix\, AZ 85004
UID:e.2665.2159
SEQUENCE:3
DTSTAMP:20260423T070538Z
URL:https://business.phoenixchamber.com/events/details/agriculture-environment-and-water-issue-committee-10-06-2010-2159
END:VEVENT

END:VCALENDAR
