BEGIN:VCALENDAR
VERSION:2.0
PRODID:-//ChamberMaster//Event Calendar 2.0//EN
METHOD:PUBLISH
X-PUBLISHED-TTL:P3D
REFRESH-INTERVAL:P3D
CALSCALE:GREGORIAN
BEGIN:VEVENT
DTSTART:20100427T183000Z
DTEND:20100427T200000Z
X-MICROSOFT-CDO-ALLDAYEVENT:FALSE
SUMMARY:Athena Kick-Off Luncheon
DESCRIPTION:.style1 {\n	font-family: Arial\;\n	font-size: 9pt\;\n	color: #666666\;\n}\n\n\n\nCelebrate the Empowerment of Women with the Greater Phoenix \nChamber of commerce at an inspiring luncheon presentation featuring Martha \nMertz\, founder of the ATHENA International.\n\nMartha Mayhood Martz will \noffer her insight and inspiration for her new book\, Becoming ATHENA: Eight \nPrinciples of Enlightened Leadership.  With Becoming ATHENA \, she \ncelebrates outstanding leaders and the values they represent.  Ms. Martz \nwill also share principles that speak powerfully to all who would lead.  \nDon't miss this exclusive opportunity to hear from the founder of ATHENA \nInternational!
X-ALT-DESC;FMTTYPE=text/html:<head>\n<meta content="en-us" http-equiv="Content-Language">\n<style type="text/css">\n.style1 {\n	font-family: Arial\;\n	font-size: 9pt\;\n	color: #666666\;\n}\n</style>\n</head>\n\n<p class="style1">Celebrate the Empowerment of Women with the Greater Phoenix \nChamber of commerce at an inspiring luncheon presentation featuring Martha \nMertz\, founder of the ATHENA International.<br><br>Martha Mayhood Martz will \noffer her insight and inspiration for her new book\, Becoming ATHENA: Eight \nPrinciples of Enlightened Leadership.&nbsp\; With Becoming ATHENA \, she \ncelebrates outstanding leaders and the values they represent.&nbsp\; Ms. Martz \nwill also share principles that speak powerfully to all who would lead.&nbsp\; \nDon't miss this exclusive opportunity to hear from the founder of ATHENA \nInternational!</p>\n
LOCATION:2400 E. Missouri Ave.\, Phoenix\, AZ 85016
UID:e.2665.2040
SEQUENCE:3
DTSTAMP:20260423T164048Z
URL:https://business.phoenixchamber.com/events/details/athena-kick-off-luncheon-04-27-2010-2040
END:VEVENT

END:VCALENDAR
