BEGIN:VCALENDAR
VERSION:2.0
PRODID:-//ChamberMaster//Event Calendar 2.0//EN
METHOD:PUBLISH
X-PUBLISHED-TTL:P3D
REFRESH-INTERVAL:P3D
CALSCALE:GREGORIAN
BEGIN:VEVENT
DTSTART:20120510T181500Z
DTEND:20120510T200000Z
X-MICROSOFT-CDO-ALLDAYEVENT:FALSE
SUMMARY:Athena Kick-Off Luncheon
DESCRIPTION:Registration for this event is now \nclosed.\n\n\nCelebrate the empowerment of women with the Greater Phoenix Chamber of Commerce at an inspiring luncheon presentation featuring Lyn St. James\, legendary race car driver and founder\, Women in the Winner's Circle Foundation.\n\nLyn St. James is just one of seven women who successfully qualified for the Indianapolis 500\, and became the first woman to win the Indianapolis 500 Rookie of the Year award. She founded the Women in the Winner's Circle Foundation in 1994 and now spends her time as a motivational speaker. \n\nSt. James will present ''Create a New Future with Horsepower'' that will teach attendees how certain actions can create change and are often easier to apply than we realize. You'll discover how these elements can help you create a new future.  \n\nDon't miss this opportunity to hear from this inspirational woman!
X-ALT-DESC;FMTTYPE=text/html:<p align="center"><b><font color="#FF0000">Registration for this event is now \nclosed.</font></b></p>\n\n\n<p>Celebrate the empowerment of women with the Greater Phoenix Chamber of Commerce at an inspiring luncheon presentation featuring Lyn St. James\, legendary race car driver and founder\, Women in the Winner's Circle Foundation.</p>\n\n<p>Lyn St. James is just one of seven women who successfully qualified for the Indianapolis 500\, and became the first woman to win the Indianapolis 500 Rookie of the Year award. She founded the Women in the Winner's Circle Foundation in 1994 and now spends her time as a motivational speaker. </p>\n\n<p>St. James will present ''Create a New Future with Horsepower'' that will teach attendees how certain actions can create change and are often easier to apply than we realize. You'll discover how these elements can help you create a new future.  </p>\n\n<p>Don't miss this opportunity to hear from this inspirational woman! \n</p>\n
LOCATION:2400 E. Missouri Ave.\, Phoenix\, AZ 85016
UID:e.2665.2543
SEQUENCE:3
DTSTAMP:20260422T005145Z
URL:https://business.phoenixchamber.com/events/details/athena-kick-off-luncheon-05-10-2012-2543
END:VEVENT

END:VCALENDAR
