BEGIN:VCALENDAR
VERSION:2.0
PRODID:-//ChamberMaster//Event Calendar 2.0//EN
METHOD:PUBLISH
X-PUBLISHED-TTL:P3D
REFRESH-INTERVAL:P3D
CALSCALE:GREGORIAN
BEGIN:VEVENT
DTSTART:20090820T183000Z
DTEND:20090820T200000Z
X-MICROSOFT-CDO-ALLDAYEVENT:FALSE
SUMMARY:Back to Business 2009 Series - Business Development
DESCRIPTION:.style2 {\n	font-family: Arial\;\n	font-weight: bold\;\n	color: #666666\;\n}\n.style4 {\n	font-size: 9pt\;\n}\n.style5 {\n	font-family: Arial\;\n	font-size: 9pt\;\n	color: #666666\;\n}\n.style6 {\n	font-family: Arial\;\n	font-size: 9pt\;\n}\n.style7 {\n	color: #666666\;\n}\n\n\n\n\nNew Times to Think Big: \nTop 10 Things to Reconsider for your \nBusiness \nLisha Garcia\, Small Business Development Center\n\n\nLooking for new tools and information to help you \nmanage your business in this economy? Then join the Greater Phoenix Chamber of \nCommerce as we offer a three part series of "Back to Business" seminars designed \nto provide Valley business owners with solutions to critical business issues. \nAttend a Back to Business seminar today and keep your business moving forward! \n\n\n		\n		Speaker: Lisha Garcia\, Director of Diversity and \n		Women's Business/Business Analyst\, Maricopa Community Colleges\n		\n		Location: Chamber Boardroom\, 201 N. Central Ave. 27th \n		Floor\, Phoenix\, AZ\n		\n\n\nAs dollars shrink\, we are tempted to let our ideas about \nbusiness shrink as well. These are new times and we must think big to take \nadvantage of the opportunities that this new marketplace affords us. This is a \ngreat time for gearing up the planning stages of business to be ready when the \neconomy rebounds. Learn about effective marketing and free resources that can \nhelp your business re-position itself. Lisha will share a multitude of ideas and \nresources for small businesses who want to rethink their value proposition and \ncompetitive advantage.\nLisha Garcia is a bicultural international
X-ALT-DESC;FMTTYPE=text/html:\n<head>\n<style type="text/css">\n.style2 {\n	font-family: Arial\;\n	font-weight: bold\;\n	color: #666666\;\n}\n.style4 {\n	font-size: 9pt\;\n}\n.style5 {\n	font-family: Arial\;\n	font-size: 9pt\;\n	color: #666666\;\n}\n.style6 {\n	font-family: Arial\;\n	font-size: 9pt\;\n}\n.style7 {\n	color: #666666\;\n}\n</style>\n</head>\n\n<font SIZE="3"><font class="style4" SIZE="1">\n<p class="style2">New Times to Think Big: <br>Top 10 Things to Reconsider for your \nBusiness <br>Lisha Garcia\, Small Business Development Center</p>\n</font>\n</font>\n<p><span class="style5">Looking for new tools and information to help you \nmanage your business in this economy? Then join the Greater Phoenix Chamber of \nCommerce as we offer a three part series of &quot\;Back to Business&quot\; seminars designed \nto provide Valley business owners with solutions to critical business issues. \nAttend a Back to Business seminar today and keep your business moving forward! </span></p>\n<font SIZE="5"><b>\n\n		</b></font><font class="style6" SIZE="2">\n		<p class="style7"><strong>Speaker:</strong> Lisha Garcia\, Director of Diversity and \n		Women's Business/Business Analyst\, Maricopa Community Colleges</p>\n		\n		<p class="style7"><strong>Location:</strong> Chamber Boardroom\, 201 N. Central Ave. 27th \n		Floor\, Phoenix\, AZ</p>\n		\n\n</font><font class="style6" SIZE="1">\n<p class="style7">As dollars shrink\, we are tempted to let our ideas about \nbusiness shrink as well. These are new times and we must think big to take \nadvantage of the opportunities that this new marketplace affords us. This is a \ngreat time for gearing up the planning stages of business to be ready when the \neconomy rebounds. Learn about effective marketing and free resources that can \nhelp your business re-position itself. Lisha will share a multitude of ideas and \nresources for small businesses who want to rethink their value proposition and \ncompetitive advantage.</p>\n<p class="style7">Lisha Garcia is a bicultural international
LOCATION:Board Room\, Phoenix\, AZ 85004
UID:e.2665.1803
SEQUENCE:3
DTSTAMP:20260424T055913Z
URL:https://business.phoenixchamber.com/events/details/back-to-business-2009-series-business-development-08-20-2009-1803
END:VEVENT

END:VCALENDAR
