BEGIN:VCALENDAR
VERSION:2.0
PRODID:-//ChamberMaster//Event Calendar 2.0//EN
METHOD:PUBLISH
X-PUBLISHED-TTL:P3D
REFRESH-INTERVAL:P3D
CALSCALE:GREGORIAN
BEGIN:VEVENT
DTSTART:20090910T183000Z
DTEND:20090910T200000Z
X-MICROSOFT-CDO-ALLDAYEVENT:FALSE
SUMMARY:Back To Business 2009 Series Small Business Loans\, Considering Pros and Cons
DESCRIPTION:.style2 {\n	font-family: Arial\;\n	font-weight: bold\;\n	color: #666666\;\n	text-align: left\;\n}\n.style4 {\n	font-size: 9pt\;\n}\n.style5 {\n	font-family: Arial\;\n	font-size: 9pt\;\n	color: #666666\;\n}\n.style6 {\n	font-weight: normal\;\n}\n\n\n\n\nSmall Business Loans\, \n Considering Pros and Cons\n \n\nSpeaker:  Lori \nStelling\, National Bank of Arizona\n\n\n\nAs Vice President\, Ms. Stelling oversees National Bank of Arizona's Small Business Administration loans statewide from inception to final payment. In addition\, Lori is part of National Bank of Arizona internal Women's Financial Group which is a resource for women seeking support and assistance with financial planning. With over 32 years of experience in the banking industry\, Lori brings with her financial expertise from commercial lending\, credit analysis and portfolio management.\n\nJoin us for this highly interactive session where you will learn options for starting\, building and growing your business. Is a small business loan the right approach for your business? Consider the pros and cons and get your questions answered by attending this informative session.
X-ALT-DESC;FMTTYPE=text/html:\n<head>\n<style type="text/css">\n.style2 {\n	font-family: Arial\;\n	font-weight: bold\;\n	color: #666666\;\n	text-align: left\;\n}\n.style4 {\n	font-size: 9pt\;\n}\n.style5 {\n	font-family: Arial\;\n	font-size: 9pt\;\n	color: #666666\;\n}\n.style6 {\n	font-weight: normal\;\n}\n</style>\n</head>\n\n<font SIZE="3"><font class="style4" SIZE="1">\n<p class="style2">Small Business Loans\, <br> Considering Pros and Cons<br>&nbsp\;<br>\nSpeaker:&nbsp\; <span class="style6">Lori \nStelling\, National Bank of Arizona</span></p>\n</b>\n</font>\n</font>\n<p class="style5">As Vice President\, Ms. Stelling oversees National Bank of Arizona's Small Business Administration loans statewide from inception to final payment. In addition\, Lori is part of National Bank of Arizona internal Women's Financial Group which is a resource for women seeking support and assistance with financial planning.<span class="style5"> With over 32 years of experience in the banking industry\, Lori brings with her financial expertise from commercial lending\, credit analysis and portfolio management.\n</span>\n<p class="style5"><span class="style5">Join us for this highly interactive session where you will learn options for starting\, building and growing your business. Is a small business loan the right approach for your business? Consider the pros and cons and get your questions answered by attending this informative session.</span>
LOCATION:201 N. Central Ave.\, Ste. 2700\, Phoenix\, AZ 85004
UID:e.2665.1804
SEQUENCE:3
DTSTAMP:20260424T050509Z
URL:https://business.phoenixchamber.com/events/details/back-to-business-2009-series-small-business-loans-considering-pros-and-cons-09-10-2009-1804
END:VEVENT

END:VCALENDAR
