BEGIN:VCALENDAR
VERSION:2.0
PRODID:-//ChamberMaster//Event Calendar 2.0//EN
METHOD:PUBLISH
X-PUBLISHED-TTL:P3D
REFRESH-INTERVAL:P3D
CALSCALE:GREGORIAN
BEGIN:VEVENT
DTSTART:20101021T183000Z
DTEND:20101021T200000Z
X-MICROSOFT-CDO-ALLDAYEVENT:FALSE
SUMMARY:Back To Business 2010 Series Positioning Your Business for Success in 2011: What You Need to Do Now!
DESCRIPTION:Speaker: George Rosenberg\, The Rosenberg Group\nTopic: Positioning Your Business for Success in 2011: What You Need to \nDo Now!\nWith the day-to-day demands of running a business\, owners and top management \noften find it challenging to step back and take a critical assessment of their \nbusiness and develop the strategies and actions necessary for future success. In \nthis presentation\, George Rosenberg\, principal of The Rosenberg Group\, a \nconsulting and coaching company\, will share techniques on what to do now to \nensure business success in 2011.\nJoin us for this informative presentation and learn how to:\n\n	Create an effective business plan that builds upon \n	your 2010 successes\n	More effectively evaluate key client/customer \n	relationships.\n	Keep your star employees motivated to grow your \n	business.\n	Develop a smarter new business and marketing strategy.\n	Understand the importance of a clear and compelling \n	vision.\n\nGeorge Rosenberg is an experienced counselor\, strategist\, and business \nadvisor. Together with his partner\, Arlene Rosenberg\, their firm\, The Rosenberg \nGroup\, provides consulting and coaching services to small businesses\, new \nentrepreneurs and executives considering their next career move.
X-ALT-DESC;FMTTYPE=text/html:\n\n\n\n<p><b>Speaker: </b>George Rosenberg\, The Rosenberg Group</p>\n<p><b>Topic:</b> Positioning Your Business for Success in 2011: What You Need to \nDo Now!</p>\n<p>With the day-to-day demands of running a business\, owners and top management \noften find it challenging to step back and take a critical assessment of their \nbusiness and develop the strategies and actions necessary for future success. In \nthis presentation\, George Rosenberg\, principal of The Rosenberg Group\, a \nconsulting and coaching company\, will share techniques on what to do now to \nensure business success in 2011.</p>\n<p>Join us for this informative presentation and learn how to:</p>\n<ul style="margin-top: 0in\; margin-bottom: 0in" type="disc">\n	<li class="MsoNormal">Create an effective business plan that builds upon \n	your 2010 successes</li>\n	<li class="MsoNormal">More effectively evaluate key client/customer \n	relationships.</li>\n	<li class="MsoNormal">Keep your star employees motivated to grow your \n	business.</li>\n	<li class="MsoNormal">Develop a smarter new business and marketing strategy.</li>\n	<li class="MsoNormal">Understand the importance of a clear and compelling \n	vision.</li>\n</ul>\n<p>George Rosenberg is an experienced counselor\, strategist\, and business \nadvisor. Together with his partner\, Arlene Rosenberg\, their firm\, The Rosenberg \nGroup\, provides consulting and coaching services to small businesses\, new \nentrepreneurs and executives considering their next career move. </p>\n
LOCATION:201 N. Central Ave.\, Ste. 2700\, Phoenix\, AZ 85004
UID:e.2665.2131
SEQUENCE:3
DTSTAMP:20260423T071036Z
URL:https://business.phoenixchamber.com/events/details/back-to-business-2010-series-positioning-your-business-for-success-in-2011-what-you-need-to-do-now-10-21-2010-2131
END:VEVENT

END:VCALENDAR
