BEGIN:VCALENDAR
VERSION:2.0
PRODID:-//ChamberMaster//Event Calendar 2.0//EN
METHOD:PUBLISH
X-PUBLISHED-TTL:P3D
REFRESH-INTERVAL:P3D
CALSCALE:GREGORIAN
BEGIN:VEVENT
DTSTART:20110505T143000Z
DTEND:20110505T160000Z
X-MICROSOFT-CDO-ALLDAYEVENT:FALSE
SUMMARY:Banking Event with Councilman Gates
DESCRIPTION:Topic: Looking to Expand Your Business? Banks are Lending!\n\n\n\nIf you are thinking about expanding your business or purchasing capital equipment\, then make plans to attend this upcoming special banking event on Thursday\, May 5. Join Phoenix City Councilman Bill Gates\, the Greater Phoenix Chamber of Commerce and the following banks BBVA Compass\, BNC National Bank\, Chase and Wells Fargo to learn about how to access a loan in today's market.  If you've heard that banks aren't loaning\, then you've heard wrong! This presentation will allow you to find out how to apply for loans\, what banks are requiring and what City of Phoenix resources are available to help you. As part of this event\, you will  have the opportunity to meet face to face with these banks to discuss your business plan. \n\n\n\nBe sure to register today!\n\n\n\n\n\n\nParticipating Banks: BBVA Compass\, BNC National Bank\, Chase and Wells Fargo
X-ALT-DESC;FMTTYPE=text/html:\n<br>\n\n<br>\n<b>Topic:</b> Looking to Expand Your Business? Banks are Lending!<br><br>\n\nIf you are thinking about expanding your business or purchasing capital equipment\, then make plans to attend this upcoming special banking event on Thursday\, May 5. Join Phoenix City Councilman Bill Gates\, the Greater Phoenix Chamber of Commerce and the following banks BBVA Compass\, BNC National Bank\, Chase and Wells Fargo to learn about how to access a loan in today's market.  If you've heard that banks aren't loaning\, then you've heard wrong! This presentation will allow you to find out how to apply for loans\, what banks are requiring and what City of Phoenix resources are available to help you. As part of this event\, you will  have the opportunity to meet face to face with these banks to discuss your business plan. \n<br><br>\nBe sure to register today!\n\n\n<br><br>\n\n<b>Participating Banks:</b> BBVA Compass\, BNC National Bank\, Chase and Wells Fargo \n\n\n \n\n
LOCATION:Food Court\, Phoenix\, AZ 85032
UID:e.2665.2300
SEQUENCE:3
DTSTAMP:20260422T220240Z
URL:https://business.phoenixchamber.com/events/details/banking-event-with-councilman-gates-05-05-2011-2300
END:VEVENT

END:VCALENDAR
