BEGIN:VCALENDAR
VERSION:2.0
PRODID:-//ChamberMaster//Event Calendar 2.0//EN
METHOD:PUBLISH
X-PUBLISHED-TTL:P3D
REFRESH-INTERVAL:P3D
CALSCALE:GREGORIAN
BEGIN:VEVENT
DTSTART:20110303T200000Z
DTEND:20110303T230000Z
X-MICROSOFT-CDO-ALLDAYEVENT:FALSE
SUMMARY:BidSource Workshop: Alternative Project Funding
DESCRIPTION:In these tough economic times\, it is getting difficult\nto find funding to keep projects on time\nand harder to meet payroll and materials\nneeds. With banks reluctant to lend money to\nsmall businesses\, those business owners are\nforced to seek working capital elsewhere. This\npresentation is designed to show company\nowners how to obtain progress funding for your\nprojects and to hopefully dispel the myths and\nmisconceptions that have been associated with\n''factoring''. Find out how to establish lines of\ncredit using your accounts receivable and\nprogress invoices to re-establish positive cash\nflow you need to meet your financial needs.\n\n\nLearn how to fund:\n\n• Commercial Construction Projects\n\n• Federal State and Local Government\nService Contracts\n\n• How to Establish Lines of Credit and\nBonding
X-ALT-DESC;FMTTYPE=text/html:\n<p>In these tough economic times\, it is getting difficult\nto find funding to keep projects on time\nand harder to meet payroll and materials\nneeds. With banks reluctant to lend money to\nsmall businesses\, those business owners are\nforced to seek working capital elsewhere. This\npresentation is designed to show company\nowners how to obtain progress funding for your\nprojects and to hopefully dispel the myths and\nmisconceptions that have been associated with\n''factoring''. Find out how to establish lines of\ncredit using your accounts receivable and\nprogress invoices to re-establish positive cash\nflow you need to meet your financial needs.<br><br>\n<b>Learn how to fund:</b><br>\n• Commercial Construction Projects<br>\n• Federal State and Local Government\nService Contracts<br>\n• How to Establish Lines of Credit and\nBonding</p>
LOCATION:201 N. Central Ave.\, Ste. 2700\, Phoenix\, AZ 85004
UID:e.2665.2262
SEQUENCE:3
DTSTAMP:20260422T232129Z
URL:https://business.phoenixchamber.com/events/details/bidsource-workshop-alternative-project-funding-03-03-2011-2262
END:VEVENT

END:VCALENDAR
