BEGIN:VCALENDAR
VERSION:2.0
PRODID:-//ChamberMaster//Event Calendar 2.0//EN
METHOD:PUBLISH
X-PUBLISHED-TTL:P3D
REFRESH-INTERVAL:P3D
CALSCALE:GREGORIAN
BEGIN:VEVENT
DTSTART:20091210T160000Z
DTEND:20091210T180000Z
X-MICROSOFT-CDO-ALLDAYEVENT:FALSE
SUMMARY:BidSource Workshop: Alternative Project Funding CANCELLED
DESCRIPTION:.style1 {\n	font-family: Arial\;\n	font-size: 9pt\;\n	color: #666666\;\n}\n\n\n\nIn these tough economic times\, it is getting more difficult to \nfind the money to keep projects on time\, in turn making it harder to meet \npayrolls and material costs. With the banks reluctant to lend money to small \nbusinesses\, they are forced to seek working capital elsewhere.\n\nThis \nseminar is designed to show you how to obtain funding for your projects and \nhopefully dispel the misconceptions that have been associated with "factoring'.  \nFind out how to establish lines of credit using your accounts receivable and \nyour progress invoices to bring in the money you need to meet your financial \nrequirements.
X-ALT-DESC;FMTTYPE=text/html:\n<head>\n<meta content="en-us" http-equiv="Content-Language">\n<style type="text/css">\n.style1 {\n	font-family: Arial\;\n	font-size: 9pt\;\n	color: #666666\;\n}\n</style>\n</head>\n\n<p class="style1">In these tough economic times\, it is getting more difficult to \nfind the money to keep projects on time\, in turn making it harder to meet \npayrolls and material costs. With the banks reluctant to lend money to small \nbusinesses\, they are forced to seek working capital elsewhere.<br><br>This \nseminar is designed to show you how to obtain funding for your projects and \nhopefully dispel the misconceptions that have been associated with &quot\;factoring'.&nbsp\; \nFind out how to establish lines of credit using your accounts receivable and \nyour progress invoices to bring in the money you need to meet your financial \nrequirements.</p>\n
LOCATION:201 N. Central Ave.\, Ste. 2700\, Phoenix\, AZ 85004
UID:e.2665.1913
SEQUENCE:3
DTSTAMP:20260423T231552Z
URL:https://business.phoenixchamber.com/events/details/bidsource-workshop-alternative-project-funding-cancelled-12-10-2009-1913
END:VEVENT

END:VCALENDAR
