BEGIN:VCALENDAR
VERSION:2.0
PRODID:-//ChamberMaster//Event Calendar 2.0//EN
METHOD:PUBLISH
X-PUBLISHED-TTL:P3D
REFRESH-INTERVAL:P3D
CALSCALE:GREGORIAN
BEGIN:VEVENT
DTSTART:20100219T153000Z
DTEND:20100219T183000Z
X-MICROSOFT-CDO-ALLDAYEVENT:FALSE
SUMMARY:BidSource Workshop: Recharge Your Marketing Tactics
DESCRIPTION:.style2 {\n	font-family: Arial\;\n	font-size: 9pt\;\n	color: #666666\;\n}\n\n\n\nRight now is a great opportunity\nto explore new marketing practices!\nGive your marketing approach a full workout!\n\n\nRefresh: This seminar will merge the ''tried and true'' marketing\npractices that could use a workout routine\, and the marketing practices\nfew still dare to try and are missing opportunities as a result.\n\n\nCharge Forward: With the internet and social media specifically\,\nthere are an abundance of opportunities to gain exposure and maximize\nyour marketing ROI. Learn more about the latest trends and how to get\nyour company ''socially'' fit.\n\n\nFor additional information\, please contact\nDanny Ayala at 602-495-6492
X-ALT-DESC;FMTTYPE=text/html:<head>\n<style type="text/css">\n.style2 {\n	font-family: Arial\;\n	font-size: 9pt\;\n	color: #666666\;\n}\n</style>\n</head>\n\n<span class="style2">Right now is a great opportunity\nto explore new marketing practices!\nGive your marketing approach a full workout!\n</span><br class="style2"><br class="style2"><span class="style2">Refresh: This seminar will merge the ''tried and true'' marketing\npractices that could use a workout routine\, and the marketing practices\nfew still dare to try and are missing opportunities as a result.\n</span><br class="style2"><br class="style2"><span class="style2">Charge Forward: With the internet and social media specifically\,\nthere are an abundance of opportunities to gain exposure and maximize\nyour marketing ROI. Learn more about the latest trends and how to get\nyour company ''socially'' fit.\n</span><br class="style2"><br class="style2"><span class="style2">For additional information\, please contact\nDanny Ayala at 602-495-6492 </span>
LOCATION:201 N. Central Ave.\, Ste. 2700\, Phoenix\, AZ 85004
UID:e.2665.2012
SEQUENCE:3
DTSTAMP:20260423T200818Z
URL:https://business.phoenixchamber.com/events/details/bidsource-workshop-recharge-your-marketing-tactics-02-19-2010-2012
END:VEVENT

END:VCALENDAR
