BEGIN:VCALENDAR
VERSION:2.0
PRODID:-//ChamberMaster//Event Calendar 2.0//EN
METHOD:PUBLISH
X-PUBLISHED-TTL:P3D
REFRESH-INTERVAL:P3D
CALSCALE:GREGORIAN
BEGIN:VEVENT
DTSTART:20100930T153000Z
DTEND:20100930T180000Z
X-MICROSOFT-CDO-ALLDAYEVENT:FALSE
SUMMARY:BidSource Workshop: Responding to a Federal Government Request for Proposal
DESCRIPTION:Why You Should Attend\n·         Learn how to read and understand an RFP \n\n·         Learn how to decipher what the Government really wants \n\n·         Find out some valuable lessons learned\n\n·         Discover tricks of the trade in how to make the evaluator's job easy\n\n·         Learn how to WIN\nThis seminar was developed for anyone interested \nin getting started in the federal service contracting world. The workshop will \ngive an overview on the basics of what an RFP consists of\, how to read and \ndecipher the information\, and how to write a winning proposal.\nThis seminar will be approximately 90 minutes\, \nfollowed by a 30 minute question and answer session.  The presenter\, Mr. Donald \nStreet\, has over forty years of experience with the federal government. A \ngraduate of West Point\, he has obtained a Masters in Military Arts and Sciences\, \nan MS in Engineering and an MBA. He has over 17 years of experience as a \ncontractor with the federal government. During that time he held positions as \nSenior Staff\, Contract Manager\, Vice President of Operations and Division \nGeneral Manager. He is currently President of D.R. Street Consultants\, LLC.\nA detailed outline of the course\, including many \nvaluable internet locations\, will be handed out at the seminar. Complimentary \nrefreshments will be served
X-ALT-DESC;FMTTYPE=text/html:<br><br>\n\n\n<p><b>Why You Should Attend</b></p>\n<p>·&nbsp\;&nbsp\;&nbsp\;&nbsp\;&nbsp\;&nbsp\;&nbsp\;&nbsp\; Learn how to read and understand an RFP <br>\n·&nbsp\;&nbsp\;&nbsp\;&nbsp\;&nbsp\;&nbsp\;&nbsp\;&nbsp\; Learn how to decipher what the Government really wants <br>\n·&nbsp\;&nbsp\;&nbsp\;&nbsp\;&nbsp\;&nbsp\;&nbsp\;&nbsp\; Find out some valuable lessons learned<br>\n·&nbsp\;&nbsp\;&nbsp\;&nbsp\;&nbsp\;&nbsp\;&nbsp\;&nbsp\; Discover tricks of the trade in how to make the evaluator's job easy<br>\n·&nbsp\;&nbsp\;&nbsp\;&nbsp\;&nbsp\;&nbsp\;&nbsp\;&nbsp\; Learn how to WIN</p>\n<p style="text-autospace: none">This seminar was developed for anyone interested \nin getting started in the federal service contracting world. The workshop will \ngive an overview on the basics of what an RFP consists of\, how to read and \ndecipher the information\, and how to write a winning proposal.</p>\n<p style="text-autospace: none">This seminar will be approximately 90 minutes\, \nfollowed by a 30 minute question and answer session.&nbsp\; The presenter\, Mr. Donald \nStreet\, has over forty years of experience with the federal government. A \ngraduate of West Point\, he has obtained a Masters in Military Arts and Sciences\, \nan MS in Engineering and an MBA. He has over 17 years of experience as a \ncontractor with the federal government. During that time he held positions as \nSenior Staff\, Contract Manager\, Vice President of Operations and Division \nGeneral Manager. He is currently President of D.R. Street Consultants\, LLC.</p>\n<p style="text-autospace: none">A detailed outline of the course\, including many \nvaluable internet locations\, will be handed out at the seminar. Complimentary \nrefreshments will be served</p>\n<p style="text-autospace: none">&nbsp\;</p>
LOCATION:201 N. Central Ave.\, Ste. 2700\, Phoenix\, AZ 85004
UID:e.2665.2140
SEQUENCE:3
DTSTAMP:20260423T083256Z
URL:https://business.phoenixchamber.com/events/details/bidsource-workshop-responding-to-a-federal-government-request-for-proposal-09-30-2010-2140
END:VEVENT

END:VCALENDAR
