BEGIN:VCALENDAR
VERSION:2.0
PRODID:-//ChamberMaster//Event Calendar 2.0//EN
METHOD:PUBLISH
X-PUBLISHED-TTL:P3D
REFRESH-INTERVAL:P3D
CALSCALE:GREGORIAN
BEGIN:VEVENT
DTSTART:20100728T183000Z
DTEND:20100728T200000Z
X-MICROSOFT-CDO-ALLDAYEVENT:FALSE
SUMMARY:Bridging the Gap Luncheon Social Media Mania
DESCRIPTION:
X-ALT-DESC;FMTTYPE=text/html:\n
LOCATION:50 E. Adams St.\, Phoenix\, AZ 85004
UID:e.2665.2075
SEQUENCE:3
DTSTAMP:20260423T113546Z
URL:https://business.phoenixchamber.com/events/details/bridging-the-gap-luncheon-social-media-mania-07-28-2010-2075
END:VEVENT

END:VCALENDAR
