BEGIN:VCALENDAR
VERSION:2.0
PRODID:-//ChamberMaster//Event Calendar 2.0//EN
METHOD:PUBLISH
X-PUBLISHED-TTL:P3D
REFRESH-INTERVAL:P3D
CALSCALE:GREGORIAN
BEGIN:VEVENT
DTSTART:20110817T170000Z
DTEND:20110817T180000Z
X-MICROSOFT-CDO-ALLDAYEVENT:FALSE
SUMMARY:Budget & Tax Issue Committee Meeting
DESCRIPTION:Issue Committees: As part of the Public Affairs Committee\, the issue committees offer the Chamber additional guidance\,\nleadership\, and participation before and during the legislative season.\nBudget and Tax Issues Committee:  works to create an environment of overall fair taxation and low administrative burden that benefit all\nbusiness sectors and industries.
X-ALT-DESC;FMTTYPE=text/html:<br><p><b>Issue Committees:</b> As part of the Public Affairs Committee\, the issue committees offer the Chamber additional guidance\,\nleadership\, and participation before and during the legislative season.</p><br><strong><span >Budget and Tax Issues Committee: </span>&nbsp\;</strong>works to create an environment of overall fair taxation and low administrative burden that benefit all\nbusiness sectors and industries. \n</span>
LOCATION:201 N. Central Ave.\, Ste. 2700\, Phoenix\, AZ 85004
UID:e.2665.2386
SEQUENCE:3
DTSTAMP:20260422T171617Z
URL:https://business.phoenixchamber.com/events/details/budget-tax-issue-committee-meeting-08-17-2011-2386
END:VEVENT

END:VCALENDAR
