BEGIN:VCALENDAR
VERSION:2.0
PRODID:-//ChamberMaster//Event Calendar 2.0//EN
METHOD:PUBLISH
X-PUBLISHED-TTL:P3D
REFRESH-INTERVAL:P3D
CALSCALE:GREGORIAN
BEGIN:VEVENT
DTSTART:20101206T200000Z
DTEND:20101206T210000Z
X-MICROSOFT-CDO-ALLDAYEVENT:FALSE
SUMMARY:Budget & Tax Issue Committee Meeting
DESCRIPTION:.style1 {\n	font-family: Arial\;\n	font-size: 9pt\;\n	color: #666666\;\n}\n.style2 {\n	text-decoration: underline\;\n}\n.style3 {\n	font-size: 9pt\;\n}\n\n\n\n\n\n\nThe Greater Phoenix Chamber of Commerce offers more \nthan 9 committees to get involved with and let your voice be heard. Each \ncommittee evaluates legislation and policy initiatives\, in order to make \nposition recommendations to the Public Affairs Committee.\n\nBudget and Tax Issues Committee:  Works to promote tax and budget policies - by supporting low tax and administrative burdens that benefit all businesses\, sectors and industries - that attract new investment and employment to the greater Phoenix region.
X-ALT-DESC;FMTTYPE=text/html:<head>\n<style type="text/css">\n.style1 {\n	font-family: Arial\;\n	font-size: 9pt\;\n	color: #666666\;\n}\n.style2 {\n	text-decoration: underline\;\n}\n.style3 {\n	font-size: 9pt\;\n}\n</style>\n</head>\n\n<body class="style1">\n\n<br><span class="style3">The Greater Phoenix Chamber of Commerce offers more \nthan 9 committees to get involved with and let your voice be heard. Each \ncommittee evaluates legislation and policy initiatives\, in order to make \nposition recommendations to the Public Affairs Committee.<br><br><strong><span class="style2">Budget and Tax Issues Committee: </span>&nbsp\;</strong>Works to promote tax and budget policies - by supporting low tax and administrative burdens that benefit all businesses\, sectors and industries - that attract new investment and employment to the greater Phoenix region. \n</span>
LOCATION:201 N. Central Ave.\, Ste. 2700\, Phoenix\, AZ 85004
UID:e.2665.2185
SEQUENCE:3
DTSTAMP:20260423T041639Z
URL:https://business.phoenixchamber.com/events/details/budget-tax-issue-committee-meeting-12-06-2010-2185
END:VEVENT

END:VCALENDAR
