BEGIN:VCALENDAR
VERSION:2.0
PRODID:-//ChamberMaster//Event Calendar 2.0//EN
METHOD:PUBLISH
X-PUBLISHED-TTL:P3D
REFRESH-INTERVAL:P3D
CALSCALE:GREGORIAN
BEGIN:VEVENT
DTSTART:20110607T183000Z
DTEND:20110607T233000Z
X-MICROSOFT-CDO-ALLDAYEVENT:FALSE
SUMMARY:Business Expo
DESCRIPTION:Come connect at the Chamber and Arizona Technology Council Business Expo! Companies from a variety of different industries will present their products\, services and new business opportunities during this day of promotion and networking. In addition to the Expo\, attendees can also attend free interactive workshops focusing on networking and marketing and purchase tickets to the Annual Member Luncheon with a special keynote speaker. \n\n\n\nExhibit space is still available\, you can access booth and tabletop pricing by clicking ''Exhibitor Information'' below. The ''Attendee Information'' page allows you to register for the free Expo\, as well as purchase tickets to our Annual Member Luncheon.  During the Expo we will have two free interactive workshops – register today by clicking the corresponding links below.\n\n\n\nOur \n''Raffle Tickets'' page will allow you to purchase raffle tickets for a chance to win one of two $1\,000 US Airways gift cards!\n\n\n\n\n\n\n\n\n \nEXHIBITOR INFORMATION  \n \n\n|\n ATTENDEE INFORMATION \n\n\n\nBusiness Expo Interactive Workshop \nNetworking 101: The Not So Basics \n\n\nBusiness Expo Interactive Workshop: Storyteller or Marketer? It Pays to Be Both
X-ALT-DESC;FMTTYPE=text/html:<p>Come connect at the Chamber and Arizona Technology Council Business Expo! Companies from a variety of different industries will present their products\, services and new business opportunities during this day of promotion and networking. In addition to the Expo\, attendees can also attend free interactive workshops focusing on networking and marketing and purchase tickets to the Annual Member Luncheon with a special keynote speaker. \n<br><br>\nExhibit space is still available\, you can access booth and tabletop pricing by clicking ''Exhibitor Information'' below. The ''Attendee Information'' page allows you to register for the free Expo\, as well as purchase tickets to our Annual Member Luncheon.  During the Expo we will have two free interactive workshops – register today by clicking the corresponding links below.\n<br><br>\nOur \n<a href="http://phoenixazcoc.weblinkconnect.com/CWT/External/WCPages/WCEvents/EventDetail.aspx?EventID=2314">''Raffle Tickets''</a> page will allow you to purchase raffle tickets for a chance to win one of two $1\,000 US Airways gift cards!\n</p>\n\n\n\n<p>\n\n\n\n&nbsp\;<p><center>\n<a href="http://phoenixazcoc.weblinkconnect.com/cwt/External/WCPages/WCEvents/EventDetail.aspx?EventID=2290">EXHIBITOR INFORMATION&nbsp\; \n \n</a>\n|\n<a href="http://phoenixazcoc.weblinkconnect.com/cwt/External/WCPages/WCEvents/EventDetail.aspx?EventID=2306">&nbsp\;ATTENDEE INFORMATION \n</a>\n</p>\n<p>\n<a href="http://phoenixazcoc.weblinkconnect.com/CWT/External/WCPages/WCEvents/EventDetail.aspx?EventID=2298">Business Expo Interactive Workshop \nNetworking 101: The Not So Basics </a></p>\n\n<p>\n<a href="http://phoenixazcoc.weblinkconnect.com/CWT/External/WCPages/WCEvents/EventDetail.aspx?EventID=2311">Business Expo Interactive Workshop: Storyteller or Marketer? It Pays to Be Both </a></center></p>\n\n<p>&nbsp\;</p>\n\n<p>&nbsp\;</p>\n
LOCATION:Grand Ballroom\, Scottsdale\, AZ 85254
UID:e.2665.2309
SEQUENCE:3
DTSTAMP:20260422T202046Z
URL:https://business.phoenixchamber.com/events/details/business-expo-06-07-2011-2309
END:VEVENT

END:VCALENDAR
