BEGIN:VCALENDAR
VERSION:2.0
PRODID:-//ChamberMaster//Event Calendar 2.0//EN
METHOD:PUBLISH
X-PUBLISHED-TTL:P3D
REFRESH-INTERVAL:P3D
CALSCALE:GREGORIAN
BEGIN:VEVENT
DTSTART:20091208T183000Z
DTEND:20091208T201500Z
X-MICROSOFT-CDO-ALLDAYEVENT:FALSE
SUMMARY:Business Expo 2009 SEMINAR INFORMATION
DESCRIPTION:.style1 {\n	font-family: Arial\;\n}\n.style2 {\n	font-size: 9pt\;\n}\n.style3 {\n	font-family: Arial\;\n	font-size: 9pt\;\n}\n.style4 {\n	color: #666666\;\n}\n\n\n\n\n•     Expo:  12 - 4:30 pm\n\n•     Annual Members Reception:  5 - 7 pm \n•     All Events are Free to Attend\n\n\nSHOWCASING:\nMeet new suppliers and vendors \n\nLEARNING:\nAttend interactive workshops \n\nNETWORKING:\nConnect with peers at the Annual GPCC Member Reception \n\nPlus\, \nchance to WIN GREAT RAFFLE PRIZES! \n\nCompanies both large and small\, from a variety of industries\, as well as local government purchasing officials\, will present their products\, services and new business opportunities during this day of promotion and networking.  This expo draws nearly 800 business professionals from a variety of industries throughout the Greater Phoenix area. \n\n \nFree Interactive Workshops will be \noffered at the Expo:\n\n\n\n''Branding for Social Media Success'' \n\n1:00 – 2:00pm \n\n\n\nFeaturing: Lori Martinek\n\nOwner & Principal\, Presentation Plus\n\n\nLearn More + RSVP\n\n\n\n''The Show's the Thing! Tradeshow Secrets for a Successful Business" \n\n2:15 – 3:15pm \n\n\n\nFeaturing: Susan Ratliff \n\nPresident\, Exhibit Experts\n\n\nLearn More + RSVP<
X-ALT-DESC;FMTTYPE=text/html:<head>\n<style type="text/css">\n.style1 {\n	font-family: Arial\;\n}\n.style2 {\n	font-size: 9pt\;\n}\n.style3 {\n	font-family: Arial\;\n	font-size: 9pt\;\n}\n.style4 {\n	color: #666666\;\n}\n</style>\n</head>\n\n<span class="style1"><span class="style2"><span class="style4"><br>•&nbsp\;&nbsp\;&nbsp\;&nbsp\; Expo:  12 - 4:30 pm\n<br>•&nbsp\;&nbsp\;&nbsp\;&nbsp\; Annual Members Reception:  5 - 7 pm <br>•&nbsp\;&nbsp\;&nbsp\;&nbsp\; All Events are Free to Attend\n<br><br><strong>SHOWCASING</strong>:\nMeet new suppliers and vendors <br><br><strong>LEARNING</strong>:\nAttend interactive workshops <br><br><strong>NETWORKING</strong>:\nConnect with peers at the Annual GPCC Member Reception <br><br><strong>Plus\, \nchance to WIN GREAT RAFFLE PRIZES! </strong><br><br>Companies both large and small\, from a variety of industries\, as well as local government purchasing officials\, will present their products\, services and new business opportunities during this day of promotion and networking.  This expo draws nearly 800 business professionals from a variety of industries throughout the Greater Phoenix area. \n<br>&nbsp\;</span></span></span><p align="center"><span class="style4">\n<font face="Arial" style="font-size: 9pt"><b>Free Interactive Workshops will be \noffered at the Expo:</b><br>\n<br>\n<b>''Branding for Social Media Success'' <br>\n</b>1:00 – 2:00pm <br>\n<br>\nFeaturing: Lori Martinek<br>\nOwner &amp\; Principal\, Presentation Plus<br>\n<a href="http://phoenixazcoc.weblinkconnect.com/CWT/External/WCPages/WCEvents/EventDetail.aspx?EventID=2068" style="text-decoration: none">\n<font color="#7797CE">Learn More + RSVP</font></a><br>\n<br>\n<b>''The Show's the Thing! Tradeshow Secrets for a Successful Business&quot\; <br>\n</b>2:15 – 3:15pm <br>\n<br>\nFeaturing: Susan Ratliff <br>\nPresident\, Exhibit Experts<br>\n<a href="http://phoenixazcoc.weblinkconnect.com/CWT/External/WCPages/WCEvents/EventDetail.aspx?EventID=2069" style="text-decoration: none">\n<font color="#7797CE">Learn More + RSVP<
LOCATION:2400 E. Missouri Ave.\, Phoenix\, AZ 85016
UID:e.2665.1905
SEQUENCE:3
DTSTAMP:20260423T231736Z
URL:https://business.phoenixchamber.com/events/details/business-expo-2009-seminar-information-12-08-2009-1905
END:VEVENT

END:VCALENDAR
