BEGIN:VCALENDAR
VERSION:2.0
PRODID:-//ChamberMaster//Event Calendar 2.0//EN
METHOD:PUBLISH
X-PUBLISHED-TTL:P3D
REFRESH-INTERVAL:P3D
CALSCALE:GREGORIAN
BEGIN:VEVENT
DTSTART:20100618T190000Z
DTEND:20100619T020000Z
X-MICROSOFT-CDO-ALLDAYEVENT:FALSE
SUMMARY:Business Expo - ATTENDEE INFORMATION
DESCRIPTION:.style1 {\n	font-family: Arial\;\n}\n.style2 {\n	font-size: 9pt\;\n}\n.style3 {\n	font-family: Arial\;\n	font-size: 9pt\;\n}\n.style4 {\n	color: #666666\;\n}\n\n\n\n\n•     Expo:  12 - 4:30 pm\n\n•     Annual Members Reception:  5 - 7 pm \n•     All Events are Free to Attend with a Business Card\n\nSHOWCASING:\nMeet new \n\nsuppliers and vendors \n\nLEARNING:\nAttend interactive workshops \n\nNETWORKING:\nConnect with peers at the Annual GPCC Member Reception \n\nPlus\, \nchance to WIN GREAT RAFFLE PRIZES! \n\n\n\nView the list of expo exhibitors.Come connect at the Chamber and Arizona Technology Council Business Expo!  Companies both large and small\, from a variety of industries\, as well as local government purchasing officials\, will present their products\, services and new business opportunities during this day of promotion and networking.  This expo draws nearly 800 business professionals from a variety of industries throughout the Greater Phoenix area. \n \n\nFree Interactive Workshops will be \noffered at the Expo:\n\n\n\n''Branding for Social Media Success'' \n\n1:00 – 2:00pm \n\n\n\nFeaturing: Lori Marti
X-ALT-DESC;FMTTYPE=text/html:<head>\n<style type="text/css">\n.style1 {\n	font-family: Arial\;\n}\n.style2 {\n	font-size: 9pt\;\n}\n.style3 {\n	font-family: Arial\;\n	font-size: 9pt\;\n}\n.style4 {\n	color: #666666\;\n}\n</style>\n</head>\n\n<span class="style1"><span class="style2"><span class="style4"><br>•&nbsp\;&nbsp\;&nbsp\;&nbsp\; Expo:  12 - 4:30 pm\n<br>•&nbsp\;&nbsp\;&nbsp\;&nbsp\; Annual Members Reception:  5 - 7 pm <br>•&nbsp\;&nbsp\;&nbsp\;&nbsp\; All Events are Free to Attend with a Business Card<br><br><strong>SHOWCASING</strong>:\nMeet new \n<a target="_blank" href="http://phoenixchamber.com/pdf/Exhibitor%20List.pdf" style="text-decoration: none">\n<font color="#7797CE">suppliers and vendors</font></a> <br><br><strong>LEARNING</strong>:\nAttend interactive workshops <br><br><strong>NETWORKING</strong>:\nConnect with peers at the Annual GPCC Member Reception <br><br><strong>Plus\, \nchance to WIN GREAT RAFFLE PRIZES! </strong></span></span></span>\n<p align="center"><font face="Arial" style="font-size: 9pt">\n<span class="style4"><strong>\n<a target="_blank" href="http://phoenixchamber.com/pdf/Exhibitor%20List.pdf" style="text-decoration: none">\n<font color="#7797CE">View the list of expo exhibitors.</font></a></strong></span></font><span class="style1"><span class="style2"><span class="style4"><p>Come connect at the Chamber and Arizona Technology Council Business Expo!  Companies both large and small\, from a variety of industries\, as well as local government purchasing officials\, will present their products\, services and new business opportunities during this day of promotion and networking.  This expo draws nearly 800 business professionals from a variety of industries throughout the Greater Phoenix area. \n</p>&nbsp\;</span></span></span></p>\n<p align="center"><span class="style4">\n<font face="Arial" style="font-size: 9pt"><b>Free Interactive Workshops will be \noffered at the Expo:</b><br>\n<br>\n<b>''Branding for Social Media Success'' <br>\n</b>1:00 – 2:00pm <br>\n<br>\nFeaturing: Lori Marti
LOCATION:6902 E. Greenway Parkway\, Scottsdale\, AZ 85254
UID:e.2665.2059
SEQUENCE:3
DTSTAMP:20260423T131455Z
URL:https://business.phoenixchamber.com/events/details/business-expo-attendee-information-06-18-2010-2059
END:VEVENT

END:VCALENDAR
