BEGIN:VCALENDAR
VERSION:2.0
PRODID:-//ChamberMaster//Event Calendar 2.0//EN
METHOD:PUBLISH
X-PUBLISHED-TTL:P3D
REFRESH-INTERVAL:P3D
CALSCALE:GREGORIAN
BEGIN:VEVENT
DTSTART:20100618T190000Z
DTEND:20100619T020000Z
X-MICROSOFT-CDO-ALLDAYEVENT:FALSE
SUMMARY:Business Expo - EXHIBITOR INFORMATION
DESCRIPTION:At this time the Expo is sold out. \n\nTo be put on a waiting list\, please email\n\ncerekson@phoenixchamber.com\n<span style="font-size:9pt
X-ALT-DESC;FMTTYPE=text/html:<head>\n<style>\n<!--\np\n	{margin-right:0in\;\n	margin-left:0in\;\n	font-size:12.0pt\;\n	font-family:"Times New Roman"\;\n	}\np.text\n	{margin-right:0in\;\n	margin-left:0in\;\n	font-size:9.0pt\;\n	font-family:Arial\;\n	color:#666666}\nspan.generalheader\n	{}\n table.MsoNormalTable\n	{mso-style-parent:""\;\n	font-size:10.0pt\;\n	font-family:"Times New Roman"}\n p.MsoNormal\n	{mso-style-parent:""\;\n	margin-bottom:.0001pt\;\n	font-size:12.0pt\;\n	font-family:"Times New Roman"\;\n	margin-left:0in\; margin-right:0in\; margin-top:0in}\nspan.generalbody\n	{font-family:Arial\;\n	font-variant:normal !important\;\n	font-weight:normal\;\n	font-style:normal}\n li.MsoNormal\n	{mso-style-parent:""\;\n	margin-bottom:.0001pt\;\n	font-size:12.0pt\;\n	font-family:"Times New Roman"\;\n	margin-left:0in\; margin-right:0in\; margin-top:0in}\np.Pa0\n	{margin-bottom:.0001pt\;\n	line-height:12.05pt\;\n	text-autospace:none\;\n	font-size:12.0pt\;\n	font-family:Arial\;\n	margin-left:0in\; margin-right:0in\; margin-top:0in}\nspan.A4\n	{mso-style-parent:""\;\n	font-family:Arial\;\n	color:#514D86\;\n	font-weight:bold}\nspan.A6\n	{mso-style-parent:""\;\n	font-family:Arial\;\n	color:#514D86}\n.style1 {\n	text-align: left\;\n}\n.style2 {\n	color: #666666\;\n}\n.style4 {\n	font-family: Arial\;\n	font-size: 9pt\;\n}\n.style5 {\n	font-size: 9pt\;\n}\n.style6 {\n	font-family: Arial\;\n	font-size: 9pt\;\n	color: #666666\;\n	text-align: center\;\n}\n.style7 {\n	font-family: Arial\;\n	font-size: 9pt\;\n	color: #666666\;\n}\n.style8 {\n	color: #FF0000\;\n}\n.style9 {\n	font-family: Arial\;\n	font-size: 9pt\;\n	color: #FF0000\;\n	text-align: center\;\n}\n.style10 {\n	text-decoration: none\;\n}\n-->\n</style>\n</head>\n\n\n<font face="Arial" style="font-size: 9pt\; ">\n<p class="style9"><strong>At this time the Expo is sold out. </strong><br>\nTo be put on a waiting list\, please email\n<a href="mailto:cerekson@phoenixchamber.com" class="style10">\n<span class="style8">cerekson@phoenixchamber.com</span></a></p>\n<p><font color="#666666"><span style="font-size:9pt
LOCATION:Grand Ballroom\, Scottsdale\, AZ 85254
UID:e.2665.2035
SEQUENCE:3
DTSTAMP:20260423T131603Z
URL:https://business.phoenixchamber.com/events/details/business-expo-exhibitor-information-06-18-2010-2035
END:VEVENT

END:VCALENDAR
