BEGIN:VCALENDAR
VERSION:2.0
PRODID:-//ChamberMaster//Event Calendar 2.0//EN
METHOD:PUBLISH
X-PUBLISHED-TTL:P3D
REFRESH-INTERVAL:P3D
CALSCALE:GREGORIAN
BEGIN:VEVENT
DTSTART:20100325T141500Z
DTEND:20100325T153000Z
X-MICROSOFT-CDO-ALLDAYEVENT:FALSE
SUMMARY:Business for Breakfast - AARP
DESCRIPTION:Join us to network with a variety of Chamber members! \nThis event will be a mini-trade show\, featuring eight Chamber members.  Attendees will get a chance to give a \nbrief commercial about their business. \n\nEnjoy a continental breakfast and great business leads. Bring a business card to enter into a drawing for member door prizes\nLocation:  \n    * From 1-17 South merge \nonto I-10 towards Tucson at exit 200A.  Take the 7th Avenue exit and there \nare two lanes that will turn right make sure you are in the left most right turn \nlane and turn right onto 7th Avenue and get in the far left lane.  Turn \nleft onto Roosevelt proceed to 3rd Street and turn right onto Washington.  \nProceed to 201 E. Washington and on the left parking is available in the Collier \nCenter Garage. \n \n    * From I-10 West take the 7th Street \nexit 145A\, turn slight left to take the 7th Street south ramp.  Turn slight \nleft onto north 7th Street and proceed to Washington Street.  Turn right \nonto Washington and proceed to 201 E. Washington Street and on the left just \nwest of 3rd Street parking is available in the Collier Center Garage.\n\n\nPlease bring parking ticket with you for validation.
X-ALT-DESC;FMTTYPE=text/html:<head>\n<style>\n<!--\n li.MsoNormal\n	{mso-style-parent:""\;\n	margin-bottom:.0001pt\;\n	font-size:12.0pt\;\n	font-family:"Times New Roman"\;\n	margin-left:0in\; margin-right:0in\; margin-top:0in}\n.style1 {\n	font-family: Arial\;\n	font-size: 9pt\;\n	color: #666666\;\n}\n-->\n</style>\n</head>\n\n<p align = "justify"> <font face="Arial" style="font-size: 9pt" color="#666666">Join us to network with a variety of Chamber members! \nThis event will be a mini-trade show\, featuring eight Chamber members.&nbsp\; Attendees will get a chance to give a \nbrief commercial about their business. <br><br>Enjoy a continental breakfast and great business leads. Bring a business card to enter into a drawing for member door prizes</font></p>\n<p class="style1">Location:&nbsp\; <br>&nbsp\;&nbsp\;&nbsp\;<strong> *</strong> From 1-17 South merge \nonto I-10 towards Tucson at exit 200A.&nbsp\; Take the 7th Avenue exit and there \nare two lanes that will turn right make sure you are in the left most right turn \nlane and turn right onto 7th Avenue and get in the far left lane.&nbsp\; Turn \nleft onto Roosevelt proceed to 3rd Street and turn right onto Washington.&nbsp\; \nProceed to 201 E. Washington and on the left parking is available in the Collier \nCenter Garage.&nbsp\;<br>&nbsp\;<br>&nbsp\;&nbsp\;&nbsp\;<strong> *</strong> From I-10 West take the 7th Street \nexit 145A\, turn slight left to take the 7th Street south ramp.&nbsp\; Turn slight \nleft onto north 7th Street and proceed to Washington Street.&nbsp\; Turn right \nonto Washington and proceed to 201 E. Washington Street and on the left just \nwest of 3rd Street parking is available in the Collier Center Garage.<br><br>\nPlease bring parking ticket with you for validation.<br><br></p>\n
LOCATION:201 E. Washington St.\, Ste. 1795\, Phoenix\, AZ 85004
UID:e.2665.1921
SEQUENCE:3
DTSTAMP:20260423T181833Z
URL:https://business.phoenixchamber.com/events/details/business-for-breakfast-aarp-03-25-2010-1921
END:VEVENT

END:VCALENDAR
