BEGIN:VCALENDAR
VERSION:2.0
PRODID:-//ChamberMaster//Event Calendar 2.0//EN
METHOD:PUBLISH
X-PUBLISHED-TTL:P3D
REFRESH-INTERVAL:P3D
CALSCALE:GREGORIAN
BEGIN:VEVENT
DTSTART:20091210T140000Z
DTEND:20091210T150000Z
X-MICROSOFT-CDO-ALLDAYEVENT:FALSE
SUMMARY:Business for Breakfast - Anthem Chapter at Hampton Inn
DESCRIPTION:Join us to network with a variety of Chamber members! Attendees will get a chance to give a 30 second commercial about their business. Enjoy a continental breakfast and great business leads. Bring a business card to enter into a drawing for member door prizes! \n \n \nDirections:\n\nFrom I-17\, exit on Anthem Way. Head west. Turn left on 41st Dr.
X-ALT-DESC;FMTTYPE=text/html:<p align = "justify"> <font face="Arial" style="font-size: 9pt" color="#666666">Join us to network with a variety of Chamber members! Attendees will get a chance to give a 30 second commercial about their business. Enjoy a continental breakfast and great business leads. Bring a business card to enter into a drawing for member door prizes! \n</font> </p>\n<p align = "justify"> <font face="Arial" style="font-size: 9pt" color="#666666">\n<b>Directions:</b><br>\nFrom I-17\, exit on Anthem Way. Head west. Turn left on 41<sup>st</sup> Dr.\n</font> </p>\n<p align = "justify"> &nbsp\;</p>
LOCATION:42415 N. 41st Dr.\, Anthem\, AZ 85086
UID:e.2665.1822
SEQUENCE:3
DTSTAMP:20260423T231950Z
URL:https://business.phoenixchamber.com/events/details/business-for-breakfast-anthem-chapter-at-hampton-inn-12-10-2009-1822
END:VEVENT

END:VCALENDAR
