BEGIN:VCALENDAR
VERSION:2.0
PRODID:-//ChamberMaster//Event Calendar 2.0//EN
METHOD:PUBLISH
X-PUBLISHED-TTL:P3D
REFRESH-INTERVAL:P3D
CALSCALE:GREGORIAN
BEGIN:VEVENT
DTSTART:20100921T141500Z
DTEND:20100921T153000Z
X-MICROSOFT-CDO-ALLDAYEVENT:FALSE
SUMMARY:Business for Breakfast at Benson Security Systems
DESCRIPTION:Please join the Greater Phoenix Chamber of Commerce at Benson Systems on Tuesday\, September 21.  Enjoy a light breakfast and relaxed atmosphere as our host presents options for security integrated systems for you and your business.  You will make new business contacts or re-connect with familiar ones\, so be sure to bring plenty of business cards!  \n\nParking is available on site.  This is a free event for our members and guests.  \n\n\n\nDirections:\n\nTake US60 East \n\nExit on Country Club Dr. – Turn right (South)\n\nLeft @ Guadalupe Rd.\n\nTake 2nd right onto N. Fiesta Blvd.\n\n2065 W. Obispo will be on the left\n\n\n\n\n\n\nView Larger Map
X-ALT-DESC;FMTTYPE=text/html:\n<br>\n\n\nPlease join the Greater Phoenix Chamber of Commerce at Benson Systems on Tuesday\, September 21.  Enjoy a light breakfast and relaxed atmosphere as our host presents options for security integrated systems for you and your business.  You will make new business contacts or re-connect with familiar ones\, so be sure to bring plenty of business cards!  <br><br>Parking is available on site.  This is a free event for our members and guests.  \n<br><br>\n<b>Directions:</b><br>\nTake US60 East <br>\nExit on Country Club Dr. – Turn right (South)<br>\nLeft @ Guadalupe Rd.<br>\nTake 2nd right onto N. Fiesta Blvd.<br>\n2065 W. Obispo will be on the left<br><br>\n\n\n\n<iframe width="425" height="350" frameborder="0" scrolling="no" marginheight="0" marginwidth="0" src="http://maps.google.com/maps?f=q&amp\;source=s_q&amp\;hl=en&amp\;geocode=&amp\;q=2065+W.+Obispo+Ave.\,+phoenix&amp\;ie=UTF8&amp\;hq=&amp\;hnear=2065+W+Obispo+Ave\,+Gilbert\,+Maricopa\,+Arizona+85233&amp\;ll=33.37075\,-111.831894&amp\;spn=0.025088\,0.036478&amp\;z=14&amp\;iwloc=A&amp\;output=embed"></iframe><br /><small><a href="http://maps.google.com/maps?f=q&amp\;source=embed&amp\;hl=en&amp\;geocode=&amp\;q=2065+W.+Obispo+Ave.\,+phoenix&amp\;ie=UTF8&amp\;hq=&amp\;hnear=2065+W+Obispo+Ave\,+Gilbert\,+Maricopa\,+Arizona+85233&amp\;ll=33.37075\,-111.831894&amp\;spn=0.025088\,0.036478&amp\;z=14&amp\;iwloc=A" style="color:#0000FF\;text-align:left">View Larger Map</a></small>
LOCATION:2065 W. Obispo Ave.\, Ste. 101\, Gilbert\, AZ 85233
UID:e.2665.2124
SEQUENCE:3
DTSTAMP:20260423T095823Z
URL:https://business.phoenixchamber.com/events/details/business-for-breakfast-at-benson-security-systems-09-21-2010-2124
END:VEVENT

END:VCALENDAR
