BEGIN:VCALENDAR
VERSION:2.0
PRODID:-//ChamberMaster//Event Calendar 2.0//EN
METHOD:PUBLISH
X-PUBLISHED-TTL:P3D
REFRESH-INTERVAL:P3D
CALSCALE:GREGORIAN
BEGIN:VEVENT
DTSTART:20100826T141500Z
DTEND:20100826T153000Z
X-MICROSOFT-CDO-ALLDAYEVENT:FALSE
SUMMARY:Business for Breakfast at Complete Print Shop
DESCRIPTION:Please join the Greater Phoenix Chamber of Commerce at Complete Print Shop on Thursday\, August 26th as they host a Business for Breakfast event.  Enjoy a light breakfast and relaxed atmosphere as you make new business contacts or re-connect with familiar ones.  Be sure to bring plenty of business cards!  \n\nParking is available on site.  This is a free event for our members and guests.
X-ALT-DESC;FMTTYPE=text/html:\n<br>\n<font face="Arial" style="font-size: 9pt" color="#666666">\n\nPlease join the Greater Phoenix Chamber of Commerce at Complete Print Shop on Thursday\, August 26th as they host a Business for Breakfast event.  Enjoy a light breakfast and relaxed atmosphere as you make new business contacts or re-connect with familiar ones.  Be sure to bring plenty of business cards!  <br><br>Parking is available on site.  This is a free event for our members and guests.  \n\n</font>
LOCATION:3433 W. Earll Dr.\, Phoenix\, AZ 85017
UID:e.2665.2127
SEQUENCE:3
DTSTAMP:20260423T100048Z
URL:https://business.phoenixchamber.com/events/details/business-for-breakfast-at-complete-print-shop-08-26-2010-2127
END:VEVENT

END:VCALENDAR
