BEGIN:VCALENDAR
VERSION:2.0
PRODID:-//ChamberMaster//Event Calendar 2.0//EN
METHOD:PUBLISH
X-PUBLISHED-TTL:P3D
REFRESH-INTERVAL:P3D
CALSCALE:GREGORIAN
BEGIN:VEVENT
DTSTART:20090701T141500Z
DTEND:20090701T153000Z
X-MICROSOFT-CDO-ALLDAYEVENT:FALSE
SUMMARY:Business for Breakfast at Tradiciones
DESCRIPTION:Join us to network with a variety of Chamber members! Attendees will get a chance to give a 30 second commercial about their business. Enjoy a continental breakfast and great business leads. Bring a business card to enter into a drawing for member door prizes! \n\nYou are cordially invited to join the Hispanic Business Leadership Council to bridge the gap while networking with a variety of Chamber members\, community professionals & large/small businesses alike.\n\n\n\nYou won't want to miss this incredible event! Attendees will have an opportunity to give a commercial about their business. Enjoy a light breakfast and great business leads. Bring a business card to enter into a drawing for door prizes!\nPlease click the Register Now link to reserve your place.\n\n\nTradiciones is located on the SE corner of Roosevelt and 16th St.\, next to the Ranch Market.
X-ALT-DESC;FMTTYPE=text/html:<p align = "left"> <font face="Arial" style="font-size: 9pt" color="#666666">Join us to network with a variety of Chamber members! Attendees will get a chance to give a 30 second commercial about their business. Enjoy a continental breakfast and great business leads. Bring a business card to enter into a drawing for member door prizes! \n\nYou are cordially invited to join the Hispanic Business Leadership Council to bridge the gap while networking with a variety of Chamber members\, community professionals & large/small businesses alike.<br>\n<br>\nYou won't want to miss this incredible event! Attendees will have an opportunity to give a commercial about their business. Enjoy a light breakfast and great business leads. Bring a business card to enter into a drawing for door prizes!\nPlease click the Register Now link to reserve your place.\n<br><br>Tradiciones is located on the SE corner of Roosevelt and 16th St.\, next to the Ranch Market. \n\n\n</font> </p>
LOCATION:1602 E. Roosevelt St.\, Phoenix\, AZ 85006
UID:e.2665.1779
SEQUENCE:3
DTSTAMP:20260424T055824Z
URL:https://business.phoenixchamber.com/events/details/business-for-breakfast-at-tradiciones-07-01-2009-1779
END:VEVENT

END:VCALENDAR
