BEGIN:VCALENDAR
VERSION:2.0
PRODID:-//ChamberMaster//Event Calendar 2.0//EN
METHOD:PUBLISH
X-PUBLISHED-TTL:P3D
REFRESH-INTERVAL:P3D
CALSCALE:GREGORIAN
BEGIN:VEVENT
DTSTART:20091020T141500Z
DTEND:20091020T153000Z
X-MICROSOFT-CDO-ALLDAYEVENT:FALSE
SUMMARY:Business for Breakfast - Deer Valley Chapter at Country Inn Suites
DESCRIPTION:a:link\n	{color:blue\;\n	text-decoration:underline\;\n	text-underline:single\;\n}\n.style1 {\n	font-family: Arial\;\n	font-size: 9pt\;\n	color: #666666\;\n}\n.style2 {\n	font-family: Arial\;\n}\n.style5 {\n	font-size: 9pt\;\n}\n.style6 {\n	font-size: 9pt\;\n	color: #666666\;\n}\n.style7 {\n	color: #666666\;\n}\n.style8 {\n	font-family: Arial\;\n	color: #666666\;\n}\n.style10 {\n	font-size: 9pt\;\n	font-weight: bold\;\n}\n\n\n\n\n	\n		\n		 Join us to network with a variety of Chamber members! Attendees will get a chance to give a 30 second commercial about their business. Enjoy a continental breakfast and great business leads. Bring a business card to enter into a drawing for member door prizes!  \n\n\n		\n		Speaker: \n		Michelle Pierson- City of Phoenix\n		\n		As Deputy Community and \n		Economic Development Director with the City of Phoenix\, she oversees a \n		Small Business Division that boasts some of the most innovative \n		programs in the country\, \n		including the first dedicated Management Technical Assistance (MTA) \n		Program for businesses impacted by light \n		rail construction. \n		<span class="style7" style
X-ALT-DESC;FMTTYPE=text/html:\n<head>\n<style type="text/css">\n \na:link\n	{color:blue\;\n	text-decoration:underline\;\n	text-underline:single\;\n}\n.style1 {\n	font-family: Arial\;\n	font-size: 9pt\;\n	color: #666666\;\n}\n.style2 {\n	font-family: Arial\;\n}\n.style5 {\n	font-size: 9pt\;\n}\n.style6 {\n	font-size: 9pt\;\n	color: #666666\;\n}\n.style7 {\n	color: #666666\;\n}\n.style8 {\n	font-family: Arial\;\n	color: #666666\;\n}\n.style10 {\n	font-size: 9pt\;\n	font-weight: bold\;\n}\n</style>\n</head>\n\n<table border="0" cellpadding="0" cellspacing="0" class="style1" style="border-collapse:collapse\;mso-yfti-tbllook:1184\;mso-padding-alt:0in 0in 0in 0in">\n	<tr >\n		<td >\n		<p class="style1"> <font face="Arial" color="#666666">Join us to network with a variety of Chamber members! Attendees will get a chance to give a 30 second commercial about their business. Enjoy a continental breakfast and great business leads. Bring a business card to enter into a drawing for member door prizes!  \n\n</font></p>\n		<p class="style4"><span class="style5"><span class="style2">\n		<span class="style7"><strong>Speaker: </strong>\n		Michelle Pierson- City of Phoenix</span></span></p>\n		<p class="style3">\n		<span class="style8" style="mso-ascii-font-family:\nCalibri\;mso-fareast-font-family:Calibri\;mso-hansi-font-family:Calibri\;\nmso-bidi-font-family:&quot\;Times New Roman&quot\;">As Deputy Community and \n		Economic Development Director with the City of Phoenix\, she oversees a \n		Small Business Division that boasts some of the most inn</span></span><span class="style2"><span class="style5"><span class="style7">ovative \n		programs in the country\,</span><span class="style7" style="mso-ascii-font-family:Calibri\;mso-fareast-font-family:\nCalibri\;mso-hansi-font-family:Calibri\;mso-bidi-font-family:&quot\;Times New Roman&quot\;"> \n		including the first dedicated Management Technical Assistance (MTA) \n		Program for businesses impa</span><span class="style7">cted by light \n		rail construction. </span>\n		<span class="style7" style
LOCATION:20221 N. 29th Ave.\, Phoenix\, AZ 85027
UID:e.2665.1823
SEQUENCE:3
DTSTAMP:20260424T021319Z
URL:https://business.phoenixchamber.com/events/details/business-for-breakfast-deer-valley-chapter-at-country-inn-suites-10-20-2009-1823
END:VEVENT

END:VCALENDAR
