BEGIN:VCALENDAR
VERSION:2.0
PRODID:-//ChamberMaster//Event Calendar 2.0//EN
METHOD:PUBLISH
X-PUBLISHED-TTL:P3D
REFRESH-INTERVAL:P3D
CALSCALE:GREGORIAN
BEGIN:VEVENT
DTSTART:20100420T141500Z
DTEND:20100420T153000Z
X-MICROSOFT-CDO-ALLDAYEVENT:FALSE
SUMMARY:Business for Breakfast - Deer Valley Chapter Comfort Inn- Phoenix North
DESCRIPTION:.style1 {\n	font-family: Arial\;\n}\n.style2 {\n	font-size: 9pt\;\n	color: #666666\;\n}\n\n\n\nJoin us to network with a variety of Chamber members! Attendees will get a chance to give a 30 second commercial about their business. Enjoy a continental breakfast and great business leads. Bring a business card to enter into a drawing for member door prizes! \n\n\n\n\n\n.style1 {\n	font-family: Arial\;\n}\n.style2 {\n	font-size: 9pt\;\n	color: #666666\;\n}
X-ALT-DESC;FMTTYPE=text/html:<head>\n<style type="text/css">\n.style1 {\n	font-family: Arial\;\n}\n.style2 {\n	font-size: 9pt\;\n	color: #666666\;\n}\n</style>\n</head>\n\n<span class="style1"><span class="style2">Join us to network with a variety of Chamber members! Attendees will get a chance to give a 30 second commercial about their business. Enjoy a continental breakfast and great business leads. Bring a business card to enter into a drawing for member door prizes! \n<br>\n</span></span>\n<head>\n<style type="text/css">\n.style1 {\n	font-family: Arial\;\n}\n.style2 {\n	font-size: 9pt\;\n	color: #666666\;\n}\n</style>\n</head>\n\n
LOCATION:2641 W. Union Hills Dr.\, Phoenix\, AZ 85027
UID:e.2665.2049
SEQUENCE:3
DTSTAMP:20260423T164531Z
URL:https://business.phoenixchamber.com/events/details/business-for-breakfast-deer-valley-chapter-comfort-inn-phoenix-north-04-20-2010-2049
END:VEVENT

END:VCALENDAR
