BEGIN:VCALENDAR
VERSION:2.0
PRODID:-//ChamberMaster//Event Calendar 2.0//EN
METHOD:PUBLISH
X-PUBLISHED-TTL:P3D
REFRESH-INTERVAL:P3D
CALSCALE:GREGORIAN
BEGIN:VEVENT
DTSTART:20110208T141500Z
DTEND:20110208T153000Z
X-MICROSOFT-CDO-ALLDAYEVENT:FALSE
SUMMARY:Business for Breakfast Deer Valley Mini Trade Show
DESCRIPTION:Please join the Greater Phoenix Chamber of Commerce at the Costco in Deer Valley for Business for Breakfast.\n\n\n\nAttend this free event and enjoy a light breakfast\, great business leads and an opportunity to network with representatives from many industries – there will also be door prize giveaways!  Parking is available on site.  This is a free event for our members and guests.
X-ALT-DESC;FMTTYPE=text/html:\n<br>\n<font face="Arial" style="font-size: 9pt" color="#666666"><br>\n<br>\nPlease join the Greater Phoenix Chamber of Commerce at the Costco in Deer Valley for Business for Breakfast.<br><br>\n\nAttend this free event and enjoy a light breakfast\, great business leads and an opportunity to network with representatives from many industries – there will also be door prize giveaways!  Parking is available on site.  This is a free event for our members and guests. \n\n \n\n</font>
LOCATION:19001 N. 27th Ave.\, Phoenix\, AZ 85027
UID:e.2665.2240
SEQUENCE:3
DTSTAMP:20260423T005802Z
URL:https://business.phoenixchamber.com/events/details/business-for-breakfast-deer-valley-mini-trade-show-02-08-2011-2240
END:VEVENT

END:VCALENDAR
