BEGIN:VCALENDAR
VERSION:2.0
PRODID:-//ChamberMaster//Event Calendar 2.0//EN
METHOD:PUBLISH
X-PUBLISHED-TTL:P3D
REFRESH-INTERVAL:P3D
CALSCALE:GREGORIAN
BEGIN:VEVENT
DTSTART:20100602T141500Z
DTEND:20100602T153000Z
X-MICROSOFT-CDO-ALLDAYEVENT:FALSE
SUMMARY:Business for Breakfast - Embassy Suites
DESCRIPTION:.style1 {\n	font-family: Arial\;\n	font-size: 9pt\;\n	color: #666666\;\n}\n\n\n\n\n\nJoin us to network with a variety of Chamber members! Attendees will get a chance to give a 30 second commercial about their business. Enjoy a continental breakfast and great business leads. Bring a business card to enter into a drawing for member door prizes!
X-ALT-DESC;FMTTYPE=text/html:<head>\n<style type="text/css">\n.style1 {\n	font-family: Arial\;\n	font-size: 9pt\;\n	color: #666666\;\n}\n</style>\n</head>\n\n<body class="style1">\n\nJoin us to network with a variety of Chamber members! Attendees will get a chance to give a 30 second commercial about their business. Enjoy a continental breakfast and great business leads. Bring a business card to enter into a drawing for member door prizes! \n\n
LOCATION:4415 E. Paradise Village Pkwy. S.\, Phoenix\, AZ 85032
UID:e.2665.2055
SEQUENCE:3
DTSTAMP:20260423T131455Z
URL:https://business.phoenixchamber.com/events/details/business-for-breakfast-embassy-suites-06-02-2010-2055
END:VEVENT

END:VCALENDAR
