BEGIN:VCALENDAR
VERSION:2.0
PRODID:-//ChamberMaster//Event Calendar 2.0//EN
METHOD:PUBLISH
X-PUBLISHED-TTL:P3D
REFRESH-INTERVAL:P3D
CALSCALE:GREGORIAN
BEGIN:VEVENT
DTSTART:20100203T141500Z
DTEND:20100203T153000Z
X-MICROSOFT-CDO-ALLDAYEVENT:FALSE
SUMMARY:Business for Breakfast - Grand Canyon University
DESCRIPTION:.style1 {\n	font-family: Arial\;\n	font-size: 9pt\;\n	color: #666666\;\n}\n\n\n\n Attendees will have an opportunity to give a brief commercial about their \nbusiness. Learn more about these businesses and others while \nenjoying a light breakfast and great business leads. Bring a business card to \nenter into a drawing for door prizes! \n\nThe Breakfast will be held in Building 29 (Student \nUnion) McKinley Room.\n\nPlease click the Register Now link to reserve your place. \n\n\nAttendees may enter from West Camelback Road.  Take the \ncenter drive to the back of campus.  Parking is available in the two lots \nclosest to the Student Union.
X-ALT-DESC;FMTTYPE=text/html:<head>\n<style type="text/css">\n.style1 {\n	font-family: Arial\;\n	font-size: 9pt\;\n	color: #666666\;\n}\n</style>\n</head>\n\n<p><span class="style1"> Attendees will have an opportunity to give a brief commercial about their \nbusiness. Learn more about these businesses and others while \nenjoying a light breakfast and great business leads. Bring a business card to \nenter into a drawing for door prizes! <br><br>The Breakfast will be held in Building 29 (Student \nUnion) McKinley Room.<br><br>Please click the Register Now link to reserve your place. </span><br class="style1"></p>\n\n<p class="style1">Attendees may enter from West Camelback Road.&nbsp\; Take the \ncenter drive to the back of campus.&nbsp\; Parking is available in the two lots \nclosest to the Student Union.</p>\n\n
LOCATION:3300 W. Camelback Rd.\, Phoenix\, AZ 85017
UID:e.2665.1931
SEQUENCE:3
DTSTAMP:20260423T215317Z
URL:https://business.phoenixchamber.com/events/details/business-for-breakfast-grand-canyon-university-02-03-2010-1931
END:VEVENT

END:VCALENDAR
