BEGIN:VCALENDAR
VERSION:2.0
PRODID:-//ChamberMaster//Event Calendar 2.0//EN
METHOD:PUBLISH
X-PUBLISHED-TTL:P3D
REFRESH-INTERVAL:P3D
CALSCALE:GREGORIAN
BEGIN:VEVENT
DTSTART:20110322T141500Z
DTEND:20110322T153000Z
X-MICROSOFT-CDO-ALLDAYEVENT:FALSE
SUMMARY:Business for Breakfast ITT Technical Institute
DESCRIPTION:Please join the Greater Phoenix Chamber of Commerce's Business for Breakfast at ITT Tech. Enjoy a light breakfast and relaxed atmosphere as you make new business contacts or re-connect with familiar ones. Be sure to bring plenty of business cards! \n\n\n\nParking is available on site. This is a free event for our members and guests.
X-ALT-DESC;FMTTYPE=text/html:\n<br>\n<font face="Arial" style="font-size: 9pt" color="#666666"><br>\n<br>\nPlease join the Greater Phoenix Chamber of Commerce's Business for Breakfast at ITT Tech. Enjoy a light breakfast and relaxed atmosphere as you make new business contacts or re-connect with familiar ones. Be sure to bring plenty of business cards! <br><br>\n\nParking is available on site. This is a free event for our members and guests.\n\n\n \n\n</font>
LOCATION:10220 N. 25th Ave.\, Ste. 100\, Phoenix\, AZ 85021
UID:e.2665.2244
SEQUENCE:3
DTSTAMP:20260422T233833Z
URL:https://business.phoenixchamber.com/events/details/business-for-breakfast-itt-technical-institute-03-22-2011-2244
END:VEVENT

END:VCALENDAR
