BEGIN:VCALENDAR
VERSION:2.0
PRODID:-//ChamberMaster//Event Calendar 2.0//EN
METHOD:PUBLISH
X-PUBLISHED-TTL:P3D
REFRESH-INTERVAL:P3D
CALSCALE:GREGORIAN
BEGIN:VEVENT
DTSTART:20100303T141500Z
DTEND:20100303T153000Z
X-MICROSOFT-CDO-ALLDAYEVENT:FALSE
SUMMARY:Business for Breakfast - KFNX
DESCRIPTION:.style1 {\n	font-family: Arial\;\n	font-size: 9pt\;\n	color: #666666\;\n}\n\n\n\nYou won't want to miss this incredible \nevent! Attendees will have an opportunity to give a brief commercial about their \nbusiness. Learn more about these businesses and others while \nenjoying a light breakfast and great business leads. Bring a business card to \nenter into a drawing for door prizes! \n\nPlease click the Register Now link to reserve your place. \n\n\nLocation:  The office is at the north east corner of 3rd \nStreet and Palm Lane in Phoenix\, AZ.  It is north of McDowell and south of \nThomas Road between Central Avenue and 7th Street..  There is a freeway \nexit off of the Interstate 10 south of McDowell at 7th Street.  Parking is \nin the south lot on Palm Lane across the street from the office building.
X-ALT-DESC;FMTTYPE=text/html:<head>\n<style type="text/css">\n.style1 {\n	font-family: Arial\;\n	font-size: 9pt\;\n	color: #666666\;\n}\n</style>\n</head>\n\n<p><span class="style1">You won't want to miss this incredible \nevent! Attendees will have an opportunity to give a brief commercial about their \nbusiness. Learn more about these businesses and others while \nenjoying a light breakfast and great business leads. Bring a business card to \nenter into a drawing for door prizes! <br><br>Please click the Register Now link to reserve your place. </span><br class="style1"></p>\n\n<p class="style1">Location:&nbsp\; The office is at the north east corner of 3rd \nStreet and Palm Lane in Phoenix\, AZ.&nbsp\; It is north of McDowell and south of \nThomas Road between Central Avenue and 7th Street..&nbsp\; There is a freeway \nexit off of the Interstate 10 south of McDowell at 7th Street.&nbsp\; Parking is \nin the south lot on Palm Lane across the street from the office building.<br></p>\n\n
LOCATION:2001 N. 3rd St.\, Ste. 102\, Phoenix\, AZ 85004
UID:e.2665.1935
SEQUENCE:3
DTSTAMP:20260423T183548Z
URL:https://business.phoenixchamber.com/events/details/business-for-breakfast-kfnx-03-03-2010-1935
END:VEVENT

END:VCALENDAR
