BEGIN:VCALENDAR
VERSION:2.0
PRODID:-//ChamberMaster//Event Calendar 2.0//EN
METHOD:PUBLISH
X-PUBLISHED-TTL:P3D
REFRESH-INTERVAL:P3D
CALSCALE:GREGORIAN
BEGIN:VEVENT
DTSTART:20100722T141500Z
DTEND:20100722T153000Z
X-MICROSOFT-CDO-ALLDAYEVENT:FALSE
SUMMARY:Business for Breakfast Paradise Valley Mall
DESCRIPTION:Join us to network with a variety of Chamber members! Attendees will get a chance to give a 30 second commercial about their business. Enjoy a continental breakfast and great business leads. Bring a business card to enter into a drawing for member door prizes!
X-ALT-DESC;FMTTYPE=text/html:\n<br>\n<font face="Arial" style="font-size: 9pt" color="#666666"><br>\n<br>\nJoin us to network with a variety of Chamber members! Attendees will get a chance to give a 30 second commercial about their business. Enjoy a continental breakfast and great business leads. Bring a business card to enter into a drawing for member door prizes! \n\n</font>
LOCATION:4568 E. Cactus Rd.\, Phoenix\, AZ 85032
UID:e.2665.2087
SEQUENCE:3
DTSTAMP:20260423T113144Z
URL:https://business.phoenixchamber.com/events/details/business-for-breakfast-paradise-valley-mall-07-22-2010-2087
END:VEVENT

END:VCALENDAR
